BEGIN:VCALENDAR
VERSION:2.0
PRODID:-//Stora Djupsås - ECPv6.15.11//NONSGML v1.0//EN
CALSCALE:GREGORIAN
METHOD:PUBLISH
X-WR-CALNAME:Stora Djupsås
X-ORIGINAL-URL:https://storadjupsas.se
X-WR-CALDESC:Händelser för Stora Djupsås
REFRESH-INTERVAL;VALUE=DURATION:PT1H
X-Robots-Tag:noindex
X-PUBLISHED-TTL:PT1H
BEGIN:VTIMEZONE
TZID:Europe/Stockholm
BEGIN:DAYLIGHT
TZOFFSETFROM:+0100
TZOFFSETTO:+0200
TZNAME:CEST
DTSTART:20250330T010000
END:DAYLIGHT
BEGIN:STANDARD
TZOFFSETFROM:+0200
TZOFFSETTO:+0100
TZNAME:CET
DTSTART:20251026T010000
END:STANDARD
BEGIN:DAYLIGHT
TZOFFSETFROM:+0100
TZOFFSETTO:+0200
TZNAME:CEST
DTSTART:20260329T010000
END:DAYLIGHT
BEGIN:STANDARD
TZOFFSETFROM:+0200
TZOFFSETTO:+0100
TZNAME:CET
DTSTART:20261025T010000
END:STANDARD
BEGIN:DAYLIGHT
TZOFFSETFROM:+0100
TZOFFSETTO:+0200
TZNAME:CEST
DTSTART:20270328T010000
END:DAYLIGHT
BEGIN:STANDARD
TZOFFSETFROM:+0200
TZOFFSETTO:+0100
TZNAME:CET
DTSTART:20271031T010000
END:STANDARD
END:VTIMEZONE
BEGIN:VEVENT
DTSTART;TZID=Europe/Stockholm:20260322T140000
DTEND;TZID=Europe/Stockholm:20260322T160000
DTSTAMP:20260421T103444
CREATED:20260205T180750Z
LAST-MODIFIED:20260205T181123Z
UID:7116-1774188000-1774195200@storadjupsas.se
SUMMARY:Medial workshop & Afternoon Tea på Djupsås
DESCRIPTION:Välkommen till en stämningsfull eftermiddag på Djupsås med medial workshop och klassisk afternoon tea i vacker miljö. \nTillsammans med Ulrika Viidas från HealaDig bjuds du in till en mjuk och utforskande workshop med fokus på intuition\, energi och inre närvaro. \nEfter workshopen njuter vi av en enkel men generös afternoon tea-buffé med smörgåsar\, tilltugg och söta godsaker. \nInnehåll\n– Intuitiva och mediala energiövningar– Orakelkortstolkning– Lättare meditation– Grupphealing– Utrymme för önskemål från gruppen– Afternoon tea \nPraktisk information\nDatum: 22 marsTid: 14.00–16.00Plats: Stora DjupsåsPris: 400 kr/personAntal platser: Max 8 personerSista anmälan: 15 mars \n📩 Anmälan sker via mejl: info@storadjupsas.se
URL:https://storadjupsas.se/event/medial-workshop-afternoon-tea-pa-djupsas/
LOCATION:Stora Djupsås
CATEGORIES:Wellbeing
ATTACH;FMTTYPE=image/jpeg:https://storadjupsas.se/wp-content/uploads/2026/02/viva-luna-studios-mnf5Q9nTkhs-unsplash-scaled.jpg
ORGANIZER;CN="Stora Djups%C3%A5s":MAILTO:info@storadjupsas.se
END:VEVENT
BEGIN:VEVENT
DTSTART;VALUE=DATE:20260325
DTEND;VALUE=DATE:20260326
DTSTAMP:20260421T103444
CREATED:20260121T172449Z
LAST-MODIFIED:20260121T172955Z
UID:7072-1774396800-1774483199@storadjupsas.se
SUMMARY:Nossebro Marknad - Sport & Friluftsliv
DESCRIPTION:Välkommen till Nossebro Marknad – en mötesplats för shopping\, inspiration och upplevelser! \nHos oss hittar du ett brett utbud av traditionella marknadsprodukter\, hantverk\, delikatesser och bakluckeloppis/återbruk. Varje marknad erbjuder vi dessutom ett temaområde som lyfter fram spännande utställare och inspiration inom olika ämnen. \nMarknaden är öppen mellan 08:00–13:00\, förutom under juni och juli då vi har extra öppet till 14:00. \nAlla årets temaplatser hittar ni på marknadsområdet mittemot ICA i Nossebro. \nÅrets teman och datum:\n\n25 mars: Sport & Friluftsliv\n29 mars: Växter & Natur\n27 maj: Hälsa & Välmående\n24 juni: Sommarmarknad (öppet till 14:00)\n29 juli: Sommarmarknad (öppet till 14:00)\n26 augusti: Cirkulärt\, Återbruk & Hållbarhet\n30 september: Från jord till bord\n28 oktober: Hantverk & Kreativt\n25 november: Julmarknad\n\nI temaområdet får du möjlighet att träffa utställare som ger tips\, inspiration och produkter inom månadens tema – oavsett om det handlar om hälsa\, hållbarhet\, mat eller kreativt hantverk. \nTrött i benen eller sugen på något gott? Foodtrucks eller fika/matsevering av föreningfinns på plats\, och det finns flera trevliga restauranger och caféer runtom i Nossebro. \nTelefon: 0512-570 17E-post: nossebromarknad@essunga.seWebbplats: Nossebro Marknad – Essunga kommun
URL:https://storadjupsas.se/event/nossebro-marknad-sport-friluftsliv/
LOCATION:Nossebro\, 46582
CATEGORIES:Hantverk,Loppis,Marknad
ATTACH;FMTTYPE=image/jpeg:https://storadjupsas.se/wp-content/uploads/2026/01/nossebro-marknad-juli-2019.jpg
END:VEVENT
BEGIN:VEVENT
DTSTART;VALUE=DATE:20260329
DTEND;VALUE=DATE:20260330
DTSTAMP:20260421T103444
CREATED:20260121T173403Z
LAST-MODIFIED:20260121T173403Z
UID:7086-1774742400-1774828799@storadjupsas.se
SUMMARY:Nossebro Marknad - Växter & Natur
DESCRIPTION:Välkommen till Nossebro Marknad – en mötesplats för shopping\, inspiration och upplevelser! \nHos oss hittar du ett brett utbud av traditionella marknadsprodukter\, hantverk\, delikatesser och bakluckeloppis/återbruk. Varje marknad erbjuder vi dessutom ett temaområde som lyfter fram spännande utställare och inspiration inom olika ämnen. \nMarknaden är öppen mellan 08:00–13:00\, förutom under juni och juli då vi har extra öppet till 14:00. \nAlla årets temaplatser hittar ni på marknadsområdet mittemot ICA i Nossebro. \nÅrets teman och datum:\n\n25 mars: Sport & Friluftsliv\n29 mars: Växter & Natur\n27 maj: Hälsa & Välmående\n24 juni: Sommarmarknad (öppet till 14:00)\n29 juli: Sommarmarknad (öppet till 14:00)\n26 augusti: Cirkulärt\, Återbruk & Hållbarhet\n30 september: Från jord till bord\n28 oktober: Hantverk & Kreativt\n25 november: Julmarknad\n\nI temaområdet får du möjlighet att träffa utställare som ger tips\, inspiration och produkter inom månadens tema – oavsett om det handlar om hälsa\, hållbarhet\, mat eller kreativt hantverk. \nTrött i benen eller sugen på något gott? Foodtrucks eller fika/matsevering av föreningfinns på plats\, och det finns flera trevliga restauranger och caféer runtom i Nossebro. \nTelefon: 0512-570 17E-post: nossebromarknad@essunga.seWebbplats: Nossebro Marknad – Essunga kommun
URL:https://storadjupsas.se/event/nossebro-marknad-vaxter-natur/
LOCATION:Nossebro\, 46582
CATEGORIES:Hantverk,Loppis,Marknad
ATTACH;FMTTYPE=image/jpeg:https://storadjupsas.se/wp-content/uploads/2026/01/nossebro-marknad-juli-2019.jpg
END:VEVENT
END:VCALENDAR