BEGIN:VCALENDAR
VERSION:2.0
PRODID:-//Stora Djupsås - ECPv6.15.11//NONSGML v1.0//EN
CALSCALE:GREGORIAN
METHOD:PUBLISH
X-ORIGINAL-URL:https://storadjupsas.se
X-WR-CALDESC:Händelser för Stora Djupsås
REFRESH-INTERVAL;VALUE=DURATION:PT1H
X-Robots-Tag:noindex
X-PUBLISHED-TTL:PT1H
BEGIN:VTIMEZONE
TZID:Europe/Stockholm
BEGIN:DAYLIGHT
TZOFFSETFROM:+0100
TZOFFSETTO:+0200
TZNAME:CEST
DTSTART:20240331T010000
END:DAYLIGHT
BEGIN:STANDARD
TZOFFSETFROM:+0200
TZOFFSETTO:+0100
TZNAME:CET
DTSTART:20241027T010000
END:STANDARD
BEGIN:DAYLIGHT
TZOFFSETFROM:+0100
TZOFFSETTO:+0200
TZNAME:CEST
DTSTART:20250330T010000
END:DAYLIGHT
BEGIN:STANDARD
TZOFFSETFROM:+0200
TZOFFSETTO:+0100
TZNAME:CET
DTSTART:20251026T010000
END:STANDARD
BEGIN:DAYLIGHT
TZOFFSETFROM:+0100
TZOFFSETTO:+0200
TZNAME:CEST
DTSTART:20260329T010000
END:DAYLIGHT
BEGIN:STANDARD
TZOFFSETFROM:+0200
TZOFFSETTO:+0100
TZNAME:CET
DTSTART:20261025T010000
END:STANDARD
END:VTIMEZONE
BEGIN:VEVENT
DTSTART;TZID=Europe/Stockholm:20251126T080000
DTEND;TZID=Europe/Stockholm:20251126T170000
DTSTAMP:20260420T193227
CREATED:20250227T083802Z
LAST-MODIFIED:20250227T091422Z
UID:4958-1764144000-1764176400@storadjupsas.se
SUMMARY:Nossebro Marknad: Jul
DESCRIPTION:Nossebro Marknad är mer än 120 år gammal och lockar gamla som unga\, lokala som långväga besökare. Marknaden är Sveriges största och äldsta månadsmarknad med sina 500 marknadsplatser\, 1500 knallar och 100 000 besökare årligen. \nNossebro Marknad äger rum sista onsdagen i månaden. Öppettider under 2025\, är kl. 08.00-13.00 men under juni och juli är det öppet till kl. 14.00. \n\n\n\n\nPå marknaden hittar man genuina hantverk\, närproducerade råvaror och handplockade godsaker. Till marknaden vill vi locka eldsjälar och kreatörer i alla former. Vår förhoppning är att det ska vara en mötesplats med fokus på livsglädje och kvalitét!
URL:https://storadjupsas.se/event/nossebro-marknad-jul/
LOCATION:Nossebro\, 46582
CATEGORIES:Marknad
ATTACH;FMTTYPE=image/jpeg:https://storadjupsas.se/wp-content/uploads/2025/02/Nossebro-marknad-jul.jpg
END:VEVENT
BEGIN:VEVENT
DTSTART;TZID=Europe/Stockholm:20251130T130000
DTEND;TZID=Europe/Stockholm:20251130T200000
DTSTAMP:20260420T193227
CREATED:20250227T120334Z
LAST-MODIFIED:20250227T120334Z
UID:5022-1764507600-1764532800@storadjupsas.se
SUMMARY:Julmarknad i Vara
DESCRIPTION:Mysig julmarknad med spektakulära julskyltningar i Vara Småstad\n\n\n\nMysig julskyltning i Vara Småstad. Butikerna i Vara är välkända för sina ambitiösa skyltfönster inför jul. Upplev julens magi och vår mysiga  småstadskänsla\, ta en runda i den välfyllda julmarknaden och se årets alla inspirerande julskyltningar. \nKöpmännen i Vara Småstads Julskyltning 2025 \nNär: 30 November kl 13-17 \nVar: I Vara Småstad. Julmarknad och barnaktiviteter på Lilla Torget och Torggatan. \nKostnad: Gratis \nBarnaktiviteter\, julmarknad\, julmusik\, luciatåg och värmande mat från Food trucks är några av alla de saker du kan njuta av denna dag! \nFullt program finns på Köpmännens hemsida varasmastad.se och i sociala medier @kopmannen_i_vara_smastad \nJulöppettider för butikerna i Vara Småstad skiljer sig från butik till butik. Men alla köpmän har öppet kl 13-17 den 30e november och till kl 20.00 vid Julklappskvällen. \nEn godare jul\, önskar Köpmännen i Vara Småstad!
URL:https://storadjupsas.se/event/julmarknad-i-vara/
LOCATION:Vara\, 53431
ATTACH;FMTTYPE=image/png:https://storadjupsas.se/wp-content/uploads/2025/02/5.png
END:VEVENT
END:VCALENDAR