BEGIN:VCALENDAR
VERSION:2.0
PRODID:-//Stora Djupsås - ECPv6.15.11//NONSGML v1.0//EN
CALSCALE:GREGORIAN
METHOD:PUBLISH
X-WR-CALNAME:Stora Djupsås
X-ORIGINAL-URL:https://storadjupsas.se
X-WR-CALDESC:Händelser för Stora Djupsås
REFRESH-INTERVAL;VALUE=DURATION:PT1H
X-Robots-Tag:noindex
X-PUBLISHED-TTL:PT1H
BEGIN:VTIMEZONE
TZID:Europe/Stockholm
BEGIN:DAYLIGHT
TZOFFSETFROM:+0100
TZOFFSETTO:+0200
TZNAME:CEST
DTSTART:20240331T010000
END:DAYLIGHT
BEGIN:STANDARD
TZOFFSETFROM:+0200
TZOFFSETTO:+0100
TZNAME:CET
DTSTART:20241027T010000
END:STANDARD
BEGIN:DAYLIGHT
TZOFFSETFROM:+0100
TZOFFSETTO:+0200
TZNAME:CEST
DTSTART:20250330T010000
END:DAYLIGHT
BEGIN:STANDARD
TZOFFSETFROM:+0200
TZOFFSETTO:+0100
TZNAME:CET
DTSTART:20251026T010000
END:STANDARD
BEGIN:DAYLIGHT
TZOFFSETFROM:+0100
TZOFFSETTO:+0200
TZNAME:CEST
DTSTART:20260329T010000
END:DAYLIGHT
BEGIN:STANDARD
TZOFFSETFROM:+0200
TZOFFSETTO:+0100
TZNAME:CET
DTSTART:20261025T010000
END:STANDARD
END:VTIMEZONE
BEGIN:VTIMEZONE
TZID:UTC
BEGIN:STANDARD
TZOFFSETFROM:+0000
TZOFFSETTO:+0000
TZNAME:UTC
DTSTART:20240101T000000
END:STANDARD
END:VTIMEZONE
BEGIN:VEVENT
DTSTART;TZID=Europe/Stockholm:20250603T180000
DTEND;TZID=Europe/Stockholm:20250603T200000
DTSTAMP:20260420T155523
CREATED:20250227T092328Z
LAST-MODIFIED:20250227T092328Z
UID:4973-1748973600-1748980800@storadjupsas.se
SUMMARY:Motortisdagar på Backavallen i Malma
DESCRIPTION:Spontanträff för alla motorgalna!\n\n\n\nMotortisdagarna på Backavallen är en trevlig spontanträff som arrangeras på Backavallens idrottsplats på gräs kl.18.00–21.00. \nHar det regnat mycket\, ställs träffen in. Håll koll på Facebook-evenemanget! \nAdress: Malma Backavallen 101\, 465 91 Nossebro. \nGofika i kaffeserveringen med hembakt och vi grillar hamburgare och korv som finns på plats att köpa! \nBetalning kan ske kontant med jämna sedlar eller via swish\, mynt undanbes! \nTisdagar ojämna veckor: \n3/6\, 17/6\, 1/7\, 15/7\, 29/7 och avslutning 12/8. \nhttps://www.facebook.com/events/1991189734626941/1991191647960083/ \nVarmt välkomna
URL:https://storadjupsas.se/event/motortisdagar-pa-backavallen-i-malma/
LOCATION:Malma\, 46591
CATEGORIES:Motor
ATTACH;FMTTYPE=image/png:https://storadjupsas.se/wp-content/uploads/2024/04/Motortisdag-i-Malma.png
END:VEVENT
BEGIN:VEVENT
DTSTART;VALUE=DATE:20250606
DTEND;VALUE=DATE:20250608
DTSTAMP:20260420T155523
CREATED:20241108T113443Z
LAST-MODIFIED:20241108T113444Z
UID:4233-1749168000-1749340799@storadjupsas.se
SUMMARY:Kravlös avslappningshelg med god mat i vacker miljö
DESCRIPTION:Detta paket erbjuder både avkoppling\, själslig och kroppslig vård i form av olika pass samt god mat och boende i fantastisk naturnära och vacker miljö. \nI paketet ingår\n– Gongbad\, sound healing samt gongmeditation fördelat på två dagar som leds av Majvor på Majas Massage\n– Eftermiddagsfika\n– 2-rätters meny till kvällsmat\n– Övernattning på Stora Djupsås\n– Frukostkorg \nPriser\nGlampingtält: 2100:-/person (del i 2-manna eller 4-manna tält. Sängkläder\, handduk och morgonrock ingår)\nTrädtält: 1650:-/person (del i 2-mannatält\, sovsäck med sovsäckslakan\, handduk och kudde ingår)\nTältplats: 1550:-/person (ej el\, inkl tältplats för två personer*)\nStällplats 1550:-/person (inkl. el\, inkl ställplats för två personer*)\nEndast passen och mat: 1250:-/person (allt utom boende ingår) \nHelgen ser ut som följer:\nNi anländer till Stora Djupsås 14:00. Bor ni hos oss så checkar ni in och förbereder er för första passet\, gongbad\, som startar 15:00. Det är en terapeutisk och meditativ upplevelse där du ”badar” i ljud och vibrationer som produceras av gongar men även andra soundhealing instrument. Genom dessa ljud och vibrationer går ditt sinne i ett meditativt och avslappnat tillstånd. Detta åstadkommer läkning på mentala\, emotionella och fysiska nivåer.\nTill kvällsmat erbjuds ni en två-rätters middag och efter denna är intagen så startar ett pass med läkande sound healing: denna hjälper dig att hantera stress\, bli mer närvarande och lyssna inåt till din kropp och själ. Vi hoppas på lämpligt väder så att detta kan ske vid en mysig öppen eld i trädgården.\nLördagen startar med gongmeditation och därefter finns er frukostkorg färdig att avnjutas\, Utcheckning kl 11:00.\nDet kommer finnas möjlighet att boka tarotläsning vid vissa tider under dessa dagar\, bokning och betalning av detta sker på plats. Detta erbjuds som ett tillval och till en symbolisk summa av 200kr.\nVatten erbjuds till måltiderna. Önskar ni annan dryck så kan ni antingen ta med er egen eller köpa alkoholfria alternativ i Hönshuset hos oss. Vi kommer i mesta möjliga mån ha aktiviteterna utomhus så tänk på att ta med er kläder efter väder. Extra bra är en varm tröja till passen och har ni yogamatta/liggunderlag så ta vänligen med denna. Finns ett fåtal att låna på plats. \nHar du frågor eller vill boka? Maila oss på info@storadjupsas.se \nVarmt välkomna! \nAvbokning sker via personlig kontakt: mail eller telefon. Avbokning senare än 6/5-25 innebär att vi tar ut en avbokningsavgift om 10% av den totala kostnaden. Avbokning senare än 23/5-25 innebär debitering av 50% av den totala kostnaden. Avbokning senare än 30/5-25 innebär full debitering. \n*För ytterligare personer utöver två så debiteras 250kr per boende
URL:https://storadjupsas.se/event/kravlos-avslappningshelg-med-god-mat-i-vacker-miljo/
LOCATION:Stora Djupsås
CATEGORIES:Wellbeing
ATTACH;FMTTYPE=image/jpeg:https://storadjupsas.se/wp-content/uploads/2024/11/pexels-felipe-borges-964530-2597205-1-scaled.jpg
END:VEVENT
BEGIN:VEVENT
DTSTART;VALUE=DATE:20250607
DTEND;VALUE=DATE:20250608
DTSTAMP:20260420T155523
CREATED:20250227T090210Z
LAST-MODIFIED:20250227T090210Z
UID:4961-1749254400-1749340799@storadjupsas.se
SUMMARY:Nossebro Motorlördag
DESCRIPTION:Välkomna till Nossebro motorlördag den 7 juni -2025\, 9:00-15:00. \n  \nEn dag för alla retro & motorgalna! Hit kommer mänger av gamla veteranbilar\, MC\, mopeder\, A-traktorer och veterantraktorer. Märkesklubbar kan få en egen avsedd plats. \nRoliga aktiviteter under dagen för alla åldrar.\n· Swap meet\, försäljning av vintage- och retroprylar.\n. Uppvisning/show\n. Märkesparkeringar\n. Underhållning\n. Publikens röst. Lämnas in vid scenen\, senast kl.13.00.\n. Prisutdelning publikens röst\, ca. kl.14.00.\n. Aktiviteter för barnen\, Nossebro Bad & Camping är öppet.\nFullständigt program kommer!\nMat och fika finns på plats! \nEntré: Gratis\nParkeringsavgift: 100kr per bil oavsett hur många ni är i bilen\, avgiften går till föreningslivet som sköter parkering och städning.
URL:https://storadjupsas.se/event/nossebro-motorlordag/
LOCATION:Nossebro\, 46582
CATEGORIES:Motor
ATTACH;FMTTYPE=image/png:https://storadjupsas.se/wp-content/uploads/2025/02/Namnlos-1.png
END:VEVENT
BEGIN:VEVENT
DTSTART;TZID=Europe/Stockholm:20250617T180000
DTEND;TZID=Europe/Stockholm:20250617T200000
DTSTAMP:20260420T155523
CREATED:20250227T092523Z
LAST-MODIFIED:20250227T092523Z
UID:4976-1750183200-1750190400@storadjupsas.se
SUMMARY:Motortisdagar på Backavallen i Malma
DESCRIPTION:Spontanträff för alla motorgalna!\n\n\n\nMotortisdagarna på Backavallen är en trevlig spontanträff som arrangeras på Backavallens idrottsplats på gräs kl.18.00–21.00. \nHar det regnat mycket\, ställs träffen in. Håll koll på Facebook-evenemanget! \nAdress: Malma Backavallen 101\, 465 91 Nossebro. \nGofika i kaffeserveringen med hembakt och vi grillar hamburgare och korv som finns på plats att köpa! \nBetalning kan ske kontant med jämna sedlar eller via swish\, mynt undanbes! \nTisdagar ojämna veckor: \n3/6\, 17/6\, 1/7\, 15/7\, 29/7 och avslutning 12/8. \nhttps://www.facebook.com/events/1991189734626941/1991191647960083/ \nVarmt välkomna
URL:https://storadjupsas.se/event/motortisdagar-pa-backavallen-i-malma-2/
LOCATION:Malma\, 46591
CATEGORIES:Motor
ATTACH;FMTTYPE=image/png:https://storadjupsas.se/wp-content/uploads/2024/04/Motortisdag-i-Malma.png
END:VEVENT
BEGIN:VEVENT
DTSTART;VALUE=DATE:20250624
DTEND;VALUE=DATE:20250627
DTSTAMP:20260420T155523
CREATED:20250107T135117Z
LAST-MODIFIED:20250107T135212Z
UID:4609-1750723200-1750982399@storadjupsas.se
SUMMARY:Keramikkurs
DESCRIPTION:Under 3 dagar ägnar vi oss åt att skapa i lera. Ni får prova på flera olika tekniker så som ringling\, kavling\, drejning och tumning. Kursen är på 3 dagar efter varandra. Gruppen hålls liten så att alla får hjälp genom de olika momenten. Kursen riktar sig både till dig som är nybörjare och du med tidigare erfarenhet av att skapa i lera. \nLäs mer på vår hemsida!
URL:https://storadjupsas.se/event/keramikkurs/
CATEGORIES:Hantverk
ATTACH;FMTTYPE=image/jpeg:https://storadjupsas.se/wp-content/uploads/2024/12/20231014_074036-scaled.jpg
ORGANIZER;CN="Stora Djups%C3%A5s":MAILTO:info@storadjupsas.se
END:VEVENT
BEGIN:VEVENT
DTSTART;VALUE=DATE:20250625
DTEND;VALUE=DATE:20250626
DTSTAMP:20260420T155523
CREATED:20250227T082807Z
LAST-MODIFIED:20250227T121319Z
UID:4943-1750809600-1750895999@storadjupsas.se
SUMMARY:Nossebro Marknad
DESCRIPTION:Nossebro Marknad är mer än 120 år gammal och lockar gamla som unga\, lokala som långväga besökare. Marknaden är Sveriges största och äldsta månadsmarknad med sina 500 marknadsplatser\, 1500 knallar och 100 000 besökare årligen. \nNossebro Marknad äger rum sista onsdagen i månaden. Öppettider under 2025\, är kl. 08.00-13.00 men under juni och juli är det öppet till kl. 14.00. \n\n\n\n\nPå marknaden hittar man genuina hantverk\, närproducerade råvaror och handplockade godsaker. Till marknaden vill vi locka eldsjälar och kreatörer i alla former. Vår förhoppning är att det ska vara en mötesplats med fokus på livsglädje och kvalitét!
URL:https://storadjupsas.se/event/4943/
LOCATION:Nossebro\, 46582
ATTACH;FMTTYPE=image/png:https://storadjupsas.se/wp-content/uploads/2024/04/Nossebro-Marknad.png
END:VEVENT
BEGIN:VEVENT
DTSTART;VALUE=DATE:20250630
DTEND;VALUE=DATE:20250702
DTSTAMP:20260420T155523
CREATED:20250227T121944Z
LAST-MODIFIED:20250227T121944Z
UID:5030-1751241600-1751414399@storadjupsas.se
SUMMARY:Keramikworkshop
DESCRIPTION:Kombinera en keramikworkshop hos Åsgärdets Grönt och Skönt med naturskönt boende och god mat hos oss! \nVi erbjuder en unik upplevelse med en balans mellan kreativitet och återhämtning. Varför inte boka detta ihop med goda vänner\, till möhippan\, som födelsedagspresent till någon speciell? Blir garanterat succé! \nI paketet ingår\n– En dagskurs\n– En lätt lunch\n– 2-rätters meny till kvällsmat\n– Övernattning på Stora Djupsås\n– Frukostkorg \nI den inspirerande keramikverkstaden hos den kreativa Maria på Åsgärdets Grönt och Skönt får du lära dig att forma vackra och funktionella keramikföremål. Oavsett om du är nybörjare eller har erfarenhet\, kommer Maria vägleda dig genom processen\, allt från att skapa dina egna skulpturer till att dreja på drejskivan.\nGruppen hålls liten så att alla får hjälp genom de olika momenten. Hennes lantligt belägna verkstad är dessutom omgärdad av en fantastisk trädgård.\nBesök hennes inspirerande konto på Instagram: asgardetsgrontoch \nNär du är klar med dina skapelser kopplar du av hos oss och umgås med dina medresenärer på Stora Djupsås. Här finns flera olika boendealternativ: lyxiga glampingtält med sängar i hotellstandard\, trädtält där man sover svävande i träden invid Nossan\, övernatta i vår fina trädgård i eget tält eller ta med din husbil till vår vackra ställplats.
URL:https://storadjupsas.se/event/keramikworkshop/
CATEGORIES:Kurs
ATTACH;FMTTYPE=image/jpeg:https://storadjupsas.se/wp-content/uploads/2024/12/8E1CB24C-6CAB-44B4-8CD6-DEA36230B312-1.jpg
END:VEVENT
END:VCALENDAR