BEGIN:VCALENDAR
VERSION:2.0
PRODID:-//Stora Djupsås - ECPv6.15.11//NONSGML v1.0//EN
CALSCALE:GREGORIAN
METHOD:PUBLISH
X-ORIGINAL-URL:https://storadjupsas.se
X-WR-CALDESC:Händelser för Stora Djupsås
REFRESH-INTERVAL;VALUE=DURATION:PT1H
X-Robots-Tag:noindex
X-PUBLISHED-TTL:PT1H
BEGIN:VTIMEZONE
TZID:UTC
BEGIN:STANDARD
TZOFFSETFROM:+0000
TZOFFSETTO:+0000
TZNAME:UTC
DTSTART:20230101T000000
END:STANDARD
END:VTIMEZONE
BEGIN:VTIMEZONE
TZID:Europe/Stockholm
BEGIN:DAYLIGHT
TZOFFSETFROM:+0100
TZOFFSETTO:+0200
TZNAME:CEST
DTSTART:20230326T010000
END:DAYLIGHT
BEGIN:STANDARD
TZOFFSETFROM:+0200
TZOFFSETTO:+0100
TZNAME:CET
DTSTART:20231029T010000
END:STANDARD
BEGIN:DAYLIGHT
TZOFFSETFROM:+0100
TZOFFSETTO:+0200
TZNAME:CEST
DTSTART:20240331T010000
END:DAYLIGHT
BEGIN:STANDARD
TZOFFSETFROM:+0200
TZOFFSETTO:+0100
TZNAME:CET
DTSTART:20241027T010000
END:STANDARD
BEGIN:DAYLIGHT
TZOFFSETFROM:+0100
TZOFFSETTO:+0200
TZNAME:CEST
DTSTART:20250330T010000
END:DAYLIGHT
BEGIN:STANDARD
TZOFFSETFROM:+0200
TZOFFSETTO:+0100
TZNAME:CET
DTSTART:20251026T010000
END:STANDARD
END:VTIMEZONE
BEGIN:VEVENT
DTSTART;TZID=UTC:20240702T180000
DTEND;TZID=UTC:20240702T210000
DTSTAMP:20260420T144901
CREATED:20240405T110301Z
LAST-MODIFIED:20240405T110603Z
UID:3534-1719943200-1719954000@storadjupsas.se
SUMMARY:Motortisdagar i Malma\, en spontantträff för motorgalna
DESCRIPTION:Motortisdagarna på Backavallen är en trevlig spontanträff som arrangeras på Backavallens idrottsplats på gräs kl 18:00-21:00. \nHar det regnat mycket\, ställs träffen in. Håll koll på facebook-evenemanget. \nGofika i kaffeserveringen med hembakt och vi grillar hamburgare och korv som finns på plats \natt köpa. \nBetalning kan ske kontant med jämna pengar eller swish\, mynt undanbes! \nTisdagar ojämna veckor: \n4 juni \n18 juni \n2 juli \n16 juli \n30 juli \n13 augusti är det avslutning. \nVarmt välkomna!
URL:https://storadjupsas.se/event/motortisdagar-i-malma-en-spontanttraff-for-motorgalna-2/
LOCATION:Malma\, 46591
CATEGORIES:Motor
ATTACH;FMTTYPE=image/png:https://storadjupsas.se/wp-content/uploads/2024/04/Motortisdag-i-Malma.png
END:VEVENT
BEGIN:VEVENT
DTSTART;VALUE=DATE:20240628
DTEND;VALUE=DATE:20240630
DTSTAMP:20260420T144901
CREATED:20240405T112925Z
LAST-MODIFIED:20240405T112925Z
UID:3555-1719532800-1719705599@storadjupsas.se
SUMMARY:Jordgubbens Dag 28-29/6
DESCRIPTION:En folkfest med jordgubben i fokus och massor av aktiviteter för såväl stora som små!\n\n\n\nI Vara har jordgubben en alldeles egen dag – ett folkligt evenemang för alla åldrar som arrangerats sedan 1985. Torget i Vara fylls med flera välkända svenska artister\, det blir underhållning\, dans\, tivoli\, massor av aktiviteter och festivalkänsla – allt med fri entré. Dessutom bjuder vi på jordgubbar med hemgjod glass! \nProgram och mer information hittar du på jordgubbensdag.se
URL:https://storadjupsas.se/event/jordgubbens-dag-28-29-6/
LOCATION:Vara\, 53431
ATTACH;FMTTYPE=image/png:https://storadjupsas.se/wp-content/uploads/2024/04/Jordgubbens-dag-2024.png
END:VEVENT
BEGIN:VEVENT
DTSTART;TZID=UTC:20240626T080000
DTEND;TZID=UTC:20240626T140000
DTSTAMP:20260420T144901
CREATED:20240405T063717Z
LAST-MODIFIED:20240405T064538Z
UID:3503-1719388800-1719410400@storadjupsas.se
SUMMARY:Nossebro Marknad - Sveriges största månadsmarknad
DESCRIPTION:Nossebro marknad. \nVi erbjuder dig ett brett utbud av traditionellt marknadssortiment\, återbruk/bakluckeloppis (januari-maj & september-november) och ett unikt tema. Denna månad är erbjuds inget specifikt tema utan marknaden fylls med ett stort utbud av allt från blommor\, närproducerade produkter\, kläder\, skor och hantverk. \n  \nUnder juni och juli är marknaden öppen mellan kl.08.00-14.00 \nÅrets tema marknader mars till november finner ni på marknadsområdet mittemot ICA. \n– 26 juni \n– 31 juli \n– 28 augusti\, Energi & Återbruk \n– 25 september\, Skog & Jakt \n– 30 oktober\, Närproducerat \n– 27 november\, Jul \n  \nSkulle marknadsbesöket göra dig trött i benen eller sugen på fika eller mat finns Foodtrucks och serveringstält inne på marknadsområdet. \nDessutom finns det flera trevliga restauranger och caféer runtom i Nossebro centrum. \n  \nVill du komma dagen innan och övernatta? Kolla in våra unika boendemöjligheter i kommunen här. \nhttps://www.vastsverige.com/essunga-nossebro/boende2/ \n  \nOm ni vill sälja eller synas på Nossebro marknad\, ring Sören Aghamn 0512-570 17 eller maila: nossebromarknad@essunga.se \nwww.nossebromarknad.se \nTuristwebb: https://www.vastsverige.com/essunga-nossebro/ \n  \nVarmt välkommen att besöka Nossebro Marknad!
URL:https://storadjupsas.se/event/nossebro-marknad/
LOCATION:Nossebro\, 46582
CATEGORIES:Marknad
ATTACH;FMTTYPE=image/png:https://storadjupsas.se/wp-content/uploads/2024/04/Nossebro-Marknad.png
END:VEVENT
BEGIN:VEVENT
DTSTART;VALUE=DATE:20240626
DTEND;VALUE=DATE:20240627
DTSTAMP:20260420T144901
CREATED:20240531T095146Z
LAST-MODIFIED:20240607T065600Z
UID:3671-1719360000-1719446399@storadjupsas.se
SUMMARY:Deckarquiz i Tumlebergs Bygdegård
DESCRIPTION:Deckarquiz: Är du redo att kombinera dina kunskaper om deckargåtor med din kärlek till musik? Då är ”Deckarquiz med livemusik” på Tumlebergs bygdegård eventet för dig! Denna unika kväll bjuder inte bara på spännande musikframträdanden men också ett interaktivt deckarquiz där ditt lag kan testa era detektivfärdigheter. Samla ihop dina vänner\, bilda ett team och förbered er på en kväll där musik och mysterier möts på ett spektakulärt sätt. \nKombinera detta unika och spännande evenemang med boende hos oss på egendomen Stora Djupsås: sov i ett lyxigt glampingtält\, sväva ovanför marken i ett trädtält invid Nossan\, bo i eget tält eller egen husbil/husvagn. Vakna upp i vacker omgivning och ät god mat hos oss. I paketet ingår boende\, 2-rätters på kvällen (kycklingpaj med en grönsallad\, bröd och vispat örtsmör. Till efterrätt: Kälströms Gårds lyxiga handgjorda chokladpraliner) och frukost på morgonen samt inträdet till deckarquizen\, se priser längst ner. \nDet finns mycket att upptäcka och göra i omgivningarna så passa på att titta in på Slättabygdens Byars sida på Facebook och Instagram. Denna dag anordnas även en klassisk konsert med levande musik i Malma kapell: passa på att besöka denna också! Biljett köpes via https://billetto.se/…/klassisk-musik-i-malma-kapell… \nMaila oss förfrågan/bokning på info@storadjupsas.se \nMer info kring evenemanget:Denna unika kväll bjuder inte bara på spännande musikframträdanden utan också på ett interaktivt deckarquiz där ditt lag kan testa era detektivfärdigheter. Samla ihop dina vänner\, bilda ett team och förbered er på en kväll där musik och mysterier möts på ett spektakulärt sätt.Dörrarna öppnas kl. 19:00\, och ni kommer att välkomnas in till ljudet av livemusik som sätter stämningen. Vårt deckarquiz börjar strax därefter. Varje musikpaus fylls med melodiska inslag från musiker som garanterat kommer att få både hjärnan och hjärtat att dansa.Glöm inte att boka dina biljetter i förväg\, då detta är en kväll ni inte vill missa! Välkomna till en natt fylld med musik\, mysterier och minnesvärda ögonblick på idylliska Tumlebergs bygdegård. \nTa chansen att skapa nya vänner\, tävla om spännande priser och lev upp din midsommarvecka på bästa möjliga sätt. Vi ses där!\n\nPriser\, inkl inträde till quizet:\nGlampingtält 1500:-/person (del i 2-manna eller 4-manna tält. Sängkläder\, handduk och morgonrock ingår)\nTrädtält 1100:-/person (del i 2-mannatält\, sovsäck med sovsäckslakan\, handduk och kudde ingår)\nTältplats 750:-/person\nStällplats 780:-/person\nAvbokningsregler: avbokning måste ske via mail eller telefon. Avbokning efter 19/6-24 kl 15:00 så sker full debitering. Avbokning innan detta datum och tid innebär en avbokningskostnad som debitering på 10% av bokningens värde.
URL:https://storadjupsas.se/event/deckarquiz-i-tumlebergs-bygdegard/
LOCATION:Tumleberg\, 53494
CATEGORIES:Kultur
ATTACH;FMTTYPE=image/png:https://storadjupsas.se/wp-content/uploads/2024/05/Deckarquiz.png
END:VEVENT
BEGIN:VEVENT
DTSTART;TZID=UTC:20240618T180000
DTEND;TZID=UTC:20240618T210000
DTSTAMP:20260420T144901
CREATED:20240405T075339Z
LAST-MODIFIED:20240405T110511Z
UID:3526-1718733600-1718744400@storadjupsas.se
SUMMARY:Motortisdagar i Malma\, en spontantträff för motorgalna
DESCRIPTION:Motortisdagarna på Backavallen är en trevlig spontanträff som arrangeras på Backavallens idrottsplats på gräs kl 18:00-21:00. \nHar det regnat mycket\, ställs träffen in. Håll koll på facebook-evenemanget. \nGofika i kaffeserveringen med hembakt och vi grillar hamburgare och korv som finns på plats \natt köpa. \nBetalning kan ske kontant med jämna pengar eller swish\, mynt undanbes! \nTisdagar ojämna veckor: \n4 juni \n18 juni \n2 juli \n16 juli \n30 juli \n13 augusti är det avslutning. \nVarmt välkomna!
URL:https://storadjupsas.se/event/motortisdagar-i-malma-en-spontanttraff-for-motorgalna/
LOCATION:Malma\, 46591
CATEGORIES:Motor
ATTACH;FMTTYPE=image/png:https://storadjupsas.se/wp-content/uploads/2024/04/Motortisdag-i-Malma.png
END:VEVENT
BEGIN:VEVENT
DTSTART;TZID=UTC:20240613T170000
DTEND;TZID=UTC:20240613T200000
DTSTAMP:20260420T144901
CREATED:20231123T075433Z
LAST-MODIFIED:20240405T114030Z
UID:2142-1718298000-1718308800@storadjupsas.se
SUMMARY:Motortorsdag i Lidköping - En motorträff på torget för hela familjen
DESCRIPTION:Motortorsdag i Lidköping är ett event för hela familjen och anordnas under fyra torsdagar under sommaren. 13 juni\, 11 juli\, 18 juli och 25 juli 2024. \nMitt på Nya stadens Torg får fordon och utställningsbilar visa upp sig framför det Gamla Rådhuset. Alla fordon är välkomna\, allt från Veteran\, Muskel och Stukade/Stylade till moderna bilar och Motorcyklar. Kom och njut av bilar och motorcyklar i alla olika former! Träffen startar klockan 17:00 och håller på till cirka 20-tiden. Vill du vara säker på att se många antal fordon rekommenderar vi att du kommer tidigt. Vill du komma och ställa ut? Insläppet öppnar klockan 17.
URL:https://storadjupsas.se/event/motortorsdag-en-motortraff-pa-torget-for-hela-familjen/
LOCATION:Lidköping\, 53130\, Sverige
CATEGORIES:Motor
ATTACH;FMTTYPE=image/png:https://storadjupsas.se/wp-content/uploads/2023/11/Motortorsdag.png
END:VEVENT
BEGIN:VEVENT
DTSTART;VALUE=DATE:20240607
DTEND;VALUE=DATE:20240610
DTSTAMP:20260420T144901
CREATED:20231123T081831Z
LAST-MODIFIED:20231215T121708Z
UID:2154-1717718400-1717977599@storadjupsas.se
SUMMARY:Saab Car Museum Festival - Nu är det åter dags för att fira vår rika bilhistoria i Trollhättan
DESCRIPTION:Saab Car Museum Festival 2024 hålls i Trollhättan mellan den 7-9 juni. Upplev nostalgi och spännande bilhistoria vid Saab Car Museum.\nVälkommen till Trollhättan kära Saabentusiast\, önskar vi på Saab Car Museum  tillsammans med de arrangerande Svenska Saabklubbarna. Vi känner oss hedrade av er närvaro och det internationella inslaget kommer att bli mycket påtagligt. \nDen känslan som ni har bakom ratten på er Saab är kanske det viktigaste som binder oss entusiaster samman och vi hoppas att vi kan bjuda på ett program som kommer att inspirera er att diskutera Saab i allmänhet och synnerhet med gamla och nya vänner under veckoslutet. \nMer information och program kommer längre fram!
URL:https://storadjupsas.se/event/saab-car-museum-festival-nu-ar-det-ater-dags-for-att-fira-var-rika-bilhistoria-i-trollhattan/
LOCATION:Trollhättan\, 46153\, Sverige
CATEGORIES:Motor
ATTACH;FMTTYPE=image/png:https://storadjupsas.se/wp-content/uploads/2023/11/Saab-museum.png
END:VEVENT
BEGIN:VEVENT
DTSTART;VALUE=DATE:20240602
DTEND;VALUE=DATE:20240603
DTSTAMP:20260420T144901
CREATED:20240405T112509Z
LAST-MODIFIED:20240405T112509Z
UID:3550-1717286400-1717372799@storadjupsas.se
SUMMARY:Loppis och auktion
DESCRIPTION:Välkomna till Mossbrott på Loppis & Auktion!\n\n\n\n2 juni är det dags för Loppis & Auktion på Mossbrott. \nKom ut till oss på Mossbrott för att fynda\, träffa människor\, ta en god fika eller käka av en korv\, kanske två! \nFörsta auktionsutrop kl 12:00! \nBoka bord på vår loppis och sälj dina saker? Eller vill du hellre skänka till vår auktion? Inlämning för auktion sker 18/5\, 15/5 samt 1/6 mellan kl 10:00-12:00. \nFör mer info se IFK Emtunga på Facebook och Instagram.
URL:https://storadjupsas.se/event/loppis-och-auktion/
LOCATION:Emtunga\, 53491
CATEGORIES:Auktion,Loppis
ATTACH;FMTTYPE=image/png:https://storadjupsas.se/wp-content/uploads/2024/04/Loppis-och-Auktion.png
END:VEVENT
BEGIN:VEVENT
DTSTART;TZID=UTC:20240601T090000
DTEND;TZID=UTC:20240601T150000
DTSTAMP:20260420T144901
CREATED:20240405T074608Z
LAST-MODIFIED:20240405T074608Z
UID:3522-1717232400-1717254000@storadjupsas.se
SUMMARY:Nossebro motorlördag\, en dag för alla retro- och motorgalna!
DESCRIPTION:En dag för alla retro & motorgalna! Hit kommer mänger av gamla veteranbilar\, MC\, mopeder\, A-traktorer och veterantraktorer. Märkesklubbar kan få en egen avsedd plats.\n\nRoliga aktiviteter under dagen för alla\n· Swap meet\, försäljning av vintage- och retroprylar.\n· Fixa din Retrofrisyr inför kvällen.\n. Uppvisning/show\n. Märkesparkeringar\n. Underhållning\n. Publikens röst. Lämnas in vid scenen\, senast kl.13.00.\n. Prisutdelning publikens röst\, ca. kl.14.00.\n. Aktiviteter för barnen\, Nossebro Bad & Camping är öppet.\nFullständigt program kommer!\nMat och fika finns på plats!\n\nEntré: Gratis\nParkeringsavgift: 100kr per bil oavsett hur många ni är i bilen\, avgiften går till föreningslivet som sköter parkering och städning.\n\nVi hjälps åt att hålla rent och snyggt.\n\nÖvernattning\nCamping: https://www.vastsverige.com/…/nossebrobadets-camping/\n\nÖvriga boenden:\nhttps://www.vastsverige.com/essunga-nossebro/boende2/\n\nMer info: https://www.vastsverige.com/essunga-nossebro/\n\n• Lägg ut på era kalendrar/hemsidor och social sidor.\n\nFörsäljning\nFörsäljning sker på fotbollsplanen och Marknadsgatan 4\, Nossebro.\nFoodtrucks kan inte boka plats!\nFörsäljning på fotbollsplan:\nAll försäljning knuten till vintage- och retroprylar\, såsom reserv/ bildelsförsäljare\, retrokläder eller annan veteranförsäljning.\nMan kan komma dagen innan och ta en plats på fotbollsplanen.\nOmrådet är öppet så ni som ska sälja har möjlighet att köra in och bygga upp er säljplats från fredag kl.13.00 fram till lördag kl.8.30.\nNi bygger efter varandra!\nFörst till kvarn!\n\nSophantering: Ni får inte lämna kvar några sopor/skräp vid er försäljningsplats efter evenemanget.\nIdrottsföreningen sköter parkering och städning kommer och tar betalt\, kontant eller swish.\n\nPris försäljning: 100kr per 3m långt och 6 meter djup.\nPris parkering: 100kr per bil oavsett antal personer i bilen.\nPris entré: Gratis\n\nVarmt välkomna!
URL:https://storadjupsas.se/event/nossebro-motorlordag-en-dag-for-alla-retro-och-motorgalna/
LOCATION:Nossebro\, 46582
ATTACH;FMTTYPE=image/png:https://storadjupsas.se/wp-content/uploads/2024/04/Nossebro-motorlordag.png
END:VEVENT
BEGIN:VEVENT
DTSTART;TZID=UTC:20240529T080000
DTEND;TZID=UTC:20240529T130000
DTSTAMP:20260420T144901
CREATED:20240405T062744Z
LAST-MODIFIED:20240405T064554Z
UID:3497-1716969600-1716987600@storadjupsas.se
SUMMARY:Nossebro Marknad - Sveriges största månadsmarknad
DESCRIPTION:Tema Kropp & själ! \nVälkommen till Sveriges största månadsmarknad! \nVi erbjuder dig ett brett utbud av traditionellt marknadssortiment\, återbruk/bakluckeloppis (januari-maj & september-november) och ett unikt tema. Denna månad är temat Kropp & själ. \nKom och träffa företagen som ger dig ett brett utbud för alla sinnen. \nVill du komma dagen innan och övernatta? Kolla in våra unika boendemöjligheter i kommunen här.\nhttps://www.vastsverige.com/essunga-nossebro/boende2/ \nTuristwebb: https://www.vastsverige.com/essunga-nossebro/ \n  \nÖppet mellan kl.08.00-13.00 \n– 29 maj\, Kropp & själ\n– 26 juni\n– 31 juli\n– 28 augusti\, Energi & Återbruk\n– 25 september\, Skog & Jakt\n– 30 oktober\, Närproducerat\n– 27 november\, Jul \nOm ni vill sälja eller synas på Nossebro marknad\, ring Sören Aghamn 0512-570 17 eller maila: nossebromarknad@essunga.se\nwww.nossebromarknad.se \nSkulle marknadsbesöket göra dig trött i benen eller sugen på fika finns det ett serveringstält inne på marknadsområdet. Dessutom finns det flera trevliga restauranger och caféer runtom i Nossebro centrum. \nVarmt välkommen att besöka Nossebro Marknad!
URL:https://storadjupsas.se/event/nossebro-marknad-kropp-sjal/
LOCATION:Nossebro\, 46582
CATEGORIES:Marknad
ATTACH;FMTTYPE=image/png:https://storadjupsas.se/wp-content/uploads/2024/04/Nossebro-Marknad.png
END:VEVENT
BEGIN:VEVENT
DTSTART;VALUE=DATE:20240509
DTEND;VALUE=DATE:20240511
DTSTAMP:20260420T144901
CREATED:20231103T115721Z
LAST-MODIFIED:20240531T133932Z
UID:2051-1715212800-1715385599@storadjupsas.se
SUMMARY:Vandringpaket med mat och boende
DESCRIPTION:Vår ambition är att ha spännande saker att erbjuda under året och det första evenemanget som sker under nästa år är att det erbjuds ett vandringspaket den 9:e maj. Sara Saleryd\, känd Instagramprofil som är specialiserad på just vackra vandringar\, ordnar med en slinga i den körsbärsblommande Vallebygden. Stora Djupsås står för mat och boende. \nI paketet ingår  \n– vandring\n– matsäck tillagad av Stora Djupsås att ta med sig på vandringen: en rejäl macka\, dryck samt hembakt kaka.\n– boende i olika former hos Stora Djupsås i Essunga finns att välja på\, först till kvarn! Kryp ner i en nybäddad skön säng i ett lyxigt glampingtält 1490kr/person (2-manna eller 4-mannatält).\nSov svävande över marken invid Nossan i våra häftiga 2-manna trädtält 1090kr/person.\nSov i eget tält: 740kr/person (plus 150kr per tält).\nKom i er husbil: 740kr/person (plus 150kr per husbil).\n– 2-rätters matpaket väntar på er vid boendet: en lyxig tallrik med kallskuret\, hemlagad potatissallad samt nybakt bröd som huvudrätt samt en pannacotta med halloncoulis till dessert. \nAvbokningsregler\nAvbokning sker via personlig kontakt: mail eller telefon. Avbokning senare än 9/4-24 innebär att vi tar ut en avbokningsavgift om 10% av den totala kostnaden. Avbokning senare än 25/4-24 innebär debitering av 50% av den totala kostnaden. Avbokning senare än 2/5-24 innebär full debitering.
URL:https://storadjupsas.se/event/vandringpaket-med-mat-och-boende/
LOCATION:Stora Djupsås
ATTACH;FMTTYPE=image/jpeg:https://storadjupsas.se/wp-content/uploads/2023/07/5E4A5461.jpg
ORGANIZER;CN="Stora Djups%C3%A5s":MAILTO:info@storadjupsas.se
END:VEVENT
BEGIN:VEVENT
DTSTART;TZID=UTC:20240504T100000
DTEND;TZID=UTC:20240504T140000
DTSTAMP:20260420T144901
CREATED:20240504T112003Z
LAST-MODIFIED:20240405T113630Z
UID:3545-1714816800-1714831200@storadjupsas.se
SUMMARY:Vårmarknad i Vara
DESCRIPTION:Traditionsenlig Vårmarknad med massor av kul för alla åldrar!\n\n\n\nVårmarknaden äger rum den 4 maj kl 10-14 mitt i Vara småstad.\n\nVid marknaden kan du njuta av en stor lokal matmarknad\, food court med olika sorters mat\, barnaktiviteter\, springlopp för barn\, musik på scenen\, med mera. Köpmännen har marknadsbord utanför butikerna runt om i småstaden och massor av finfina vårerbjudanden.\n\nEvenemanget är kostnadsfritt och öppet för alla.\nVill du sälja på marknaden? Kontakta Småstadsutvecklare Maria: maria@varasmastad.se och boka plats!\n\nKöpmännen hälsar dig varmt välkommen till årets Vårmarknad i Vara Småstad.
URL:https://storadjupsas.se/event/varmarknad-i-vara/
LOCATION:Vara\, 53431
CATEGORIES:Marknad
ATTACH;FMTTYPE=image/png:https://storadjupsas.se/wp-content/uploads/2024/04/Vara-Varmarknad.png
END:VEVENT
BEGIN:VEVENT
DTSTART;TZID=UTC:20240501T180000
DTEND;TZID=UTC:20240501T200000
DTSTAMP:20260420T144901
CREATED:20240405T073530Z
LAST-MODIFIED:20240405T073530Z
UID:3517-1714586400-1714593600@storadjupsas.se
SUMMARY:Råglannaruset - loppet för alla oavsett nivå!
DESCRIPTION:Gå\, lunka\, jogga eller spring 2 eller 5 km med oss. \nUppvärmning :18:00 \nStart: 18:15 \nPlats: Råglannaparken. \nKostnad: 100 kr för 19-99 år \n50 kr för 0-18 år \nAnmälan: Swisha till 123 312 48 98 . Skriv för och efternamn på deltagaren + Råglannaruset. \nOBS: Sista anmälningsdag 23 april. Det går att anmäla sig på plats till en extra avgift. \nVid frågor kontakta Johan Andersson 070 5241101. \nFör mer information gå in på www.frammestadsik.se
URL:https://storadjupsas.se/event/raglannaruset-loppet-for-alla-oavsett-niva/
LOCATION:Främmestad\, 46597
CATEGORIES:Motion
ATTACH;FMTTYPE=image/png:https://storadjupsas.se/wp-content/uploads/2024/04/Raglannaruset.png
END:VEVENT
END:VCALENDAR