BEGIN:VCALENDAR
VERSION:2.0
PRODID:-//Stora Djupsås - ECPv6.15.11//NONSGML v1.0//EN
CALSCALE:GREGORIAN
METHOD:PUBLISH
X-ORIGINAL-URL:https://storadjupsas.se
X-WR-CALDESC:Händelser för Stora Djupsås
REFRESH-INTERVAL;VALUE=DURATION:PT1H
X-Robots-Tag:noindex
X-PUBLISHED-TTL:PT1H
BEGIN:VTIMEZONE
TZID:UTC
BEGIN:STANDARD
TZOFFSETFROM:+0000
TZOFFSETTO:+0000
TZNAME:UTC
DTSTART:20230101T000000
END:STANDARD
END:VTIMEZONE
BEGIN:VEVENT
DTSTART;VALUE=DATE:20240808
DTEND;VALUE=DATE:20240809
DTSTAMP:20260424T095423
CREATED:20231123T074531Z
LAST-MODIFIED:20241205T120730Z
UID:2136-1723075200-1723161599@storadjupsas.se
SUMMARY:Hjulafton i Lidköping - traditionsenlig folkfest på hjul
DESCRIPTION:Lidköpings käraste folkfest är tillbaka! Årets datum är 8 augusti. Hela centrum blommar ut och det erbjuds mc-kortege\, gräsklippar-rally\, driftinguppvisning\, dragrace\, 100 miljoners promenaden och mycket mer. \nVarje år är det bilutställlningar på olika ytor runt om på området för olika slags fordon\, missa inte det senaste tillägget som är en hel yta helt dedikerad till eldrivna fordon! \nOBS! Hela sta’n reserverad för festligheterna. Undvik parkering i centrum! \nProgrammet kommer några veckor innan. \n(Klicka här för att se programmet för Hjulafton 2023)
URL:https://storadjupsas.se/event/hjulafton-i-lodkoping-traditionsenlig-folkfest-pa-hjul/
LOCATION:Lidköping\, 53130\, Sverige
CATEGORIES:Motor
ATTACH;FMTTYPE=image/png:https://storadjupsas.se/wp-content/uploads/2023/11/Hjulafton-2024.png
END:VEVENT
BEGIN:VEVENT
DTSTART;TZID=UTC:20240813T180000
DTEND;TZID=UTC:20240813T210000
DTSTAMP:20260424T095423
CREATED:20240405T111159Z
LAST-MODIFIED:20240405T111159Z
UID:3543-1723572000-1723582800@storadjupsas.se
SUMMARY:Motortisdagar i Malma\, en spontantträff för motorgalna
DESCRIPTION:Motortisdagarna på Backavallen är en trevlig spontanträff som arrangeras på Backavallens idrottsplats på gräs kl 18:00-21:00. \nHar det regnat mycket\, ställs träffen in. Håll koll på facebook-evenemanget. \nGofika i kaffeserveringen med hembakt och vi grillar hamburgare och korv som finns på plats \natt köpa. \nBetalning kan ske kontant med jämna pengar eller swish\, mynt undanbes! \nTisdagar ojämna veckor: \n4 juni \n18 juni \n2 juli \n16 juli \n30 juli \n13 augusti är det avslutning. \nVarmt välkomna!
URL:https://storadjupsas.se/event/motortisdagar-i-malma-en-spontanttraff-for-motorgalna-5/
LOCATION:Malma\, 46591
CATEGORIES:Motor
ATTACH;FMTTYPE=image/png:https://storadjupsas.se/wp-content/uploads/2024/04/Motortisdag-i-Malma.png
END:VEVENT
END:VCALENDAR