BEGIN:VCALENDAR
VERSION:2.0
PRODID:-//Stora Djupsås - ECPv6.15.11//NONSGML v1.0//EN
CALSCALE:GREGORIAN
METHOD:PUBLISH
X-WR-CALNAME:Stora Djupsås
X-ORIGINAL-URL:https://storadjupsas.se
X-WR-CALDESC:Händelser för Stora Djupsås
REFRESH-INTERVAL;VALUE=DURATION:PT1H
X-Robots-Tag:noindex
X-PUBLISHED-TTL:PT1H
BEGIN:VTIMEZONE
TZID:UTC
BEGIN:STANDARD
TZOFFSETFROM:+0000
TZOFFSETTO:+0000
TZNAME:UTC
DTSTART:20230101T000000
END:STANDARD
END:VTIMEZONE
BEGIN:VEVENT
DTSTART;TZID=UTC:20240702T180000
DTEND;TZID=UTC:20240702T210000
DTSTAMP:20260424T130742
CREATED:20240405T110301Z
LAST-MODIFIED:20240405T110603Z
UID:3534-1719943200-1719954000@storadjupsas.se
SUMMARY:Motortisdagar i Malma\, en spontantträff för motorgalna
DESCRIPTION:Motortisdagarna på Backavallen är en trevlig spontanträff som arrangeras på Backavallens idrottsplats på gräs kl 18:00-21:00. \nHar det regnat mycket\, ställs träffen in. Håll koll på facebook-evenemanget. \nGofika i kaffeserveringen med hembakt och vi grillar hamburgare och korv som finns på plats \natt köpa. \nBetalning kan ske kontant med jämna pengar eller swish\, mynt undanbes! \nTisdagar ojämna veckor: \n4 juni \n18 juni \n2 juli \n16 juli \n30 juli \n13 augusti är det avslutning. \nVarmt välkomna!
URL:https://storadjupsas.se/event/motortisdagar-i-malma-en-spontanttraff-for-motorgalna-2/
LOCATION:Malma\, 46591
CATEGORIES:Motor
ATTACH;FMTTYPE=image/png:https://storadjupsas.se/wp-content/uploads/2024/04/Motortisdag-i-Malma.png
END:VEVENT
BEGIN:VEVENT
DTSTART;TZID=UTC:20240711T170000
DTEND;TZID=UTC:20240711T200000
DTSTAMP:20260424T130742
CREATED:20231123T075802Z
LAST-MODIFIED:20240405T114343Z
UID:2145-1720717200-1720728000@storadjupsas.se
SUMMARY:Motortorsdag i Lidköping - En motorträff på torget för hela familjen
DESCRIPTION:Motortorsdag i Lidköping är ett event för hela familjen och anordnas under fyra torsdagar under sommaren. 13 juni\, 11 juli\, 18 juli och 25 juli 2024. \nMitt på Nya stadens Torg får fordon och utställningsbilar visa upp sig framför det Gamla Rådhuset. Alla fordon är välkomna\, allt från Veteran\, Muskel och Stukade/Stylade till moderna bilar och Motorcyklar. Kom och njut av bilar och motorcyklar i alla olika former! Träffen startar klockan 17:00 och håller på till cirka 20-tiden. Vill du vara säker på att se många antal fordon rekommenderar vi att du kommer tidigt. Vill du komma och ställa ut? Insläppet öppnar klockan 17.
URL:https://storadjupsas.se/event/motortorsdag-en-motortraff-pa-torget-for-hela-familjen-2/
LOCATION:Lidköping\, 53130\, Sverige
CATEGORIES:Motor
ATTACH;FMTTYPE=image/png:https://storadjupsas.se/wp-content/uploads/2023/11/Motortorsdag.png
END:VEVENT
BEGIN:VEVENT
DTSTART;TZID=UTC:20240716T180000
DTEND;TZID=UTC:20240716T210000
DTSTAMP:20260424T130742
CREATED:20240405T110714Z
LAST-MODIFIED:20240405T110714Z
UID:3537-1721152800-1721163600@storadjupsas.se
SUMMARY:Motortisdagar i Malma\, en spontantträff för motorgalna
DESCRIPTION:Motortisdagarna på Backavallen är en trevlig spontanträff som arrangeras på Backavallens idrottsplats på gräs kl 18:00-21:00. \nHar det regnat mycket\, ställs träffen in. Håll koll på facebook-evenemanget. \nGofika i kaffeserveringen med hembakt och vi grillar hamburgare och korv som finns på plats \natt köpa. \nBetalning kan ske kontant med jämna pengar eller swish\, mynt undanbes! \nTisdagar ojämna veckor: \n4 juni \n18 juni \n2 juli \n16 juli \n30 juli \n13 augusti är det avslutning. \nVarmt välkomna!
URL:https://storadjupsas.se/event/motortisdagar-i-malma-en-spontanttraff-for-motorgalna-3/
LOCATION:Malma\, 46591
CATEGORIES:Motor
ATTACH;FMTTYPE=image/png:https://storadjupsas.se/wp-content/uploads/2024/04/Motortisdag-i-Malma.png
END:VEVENT
BEGIN:VEVENT
DTSTART;TZID=UTC:20240718T170000
DTEND;TZID=UTC:20240718T200000
DTSTAMP:20260424T130742
CREATED:20231123T080000Z
LAST-MODIFIED:20240405T114230Z
UID:2147-1721322000-1721332800@storadjupsas.se
SUMMARY:Motortorsdag i Lidköping - En motorträff på torget för hela familjen
DESCRIPTION:Motortorsdag i Lidköping är ett event för hela familjen och anordnas under fyra torsdagar under sommaren. 13 juni\, 11 juli\, 18 juli och 25 juli 2024. \nMitt på Nya stadens Torg får fordon och utställningsbilar visa upp sig framför det Gamla Rådhuset. Alla fordon är välkomna\, allt från Veteran\, Muskel och Stukade/Stylade till moderna bilar och Motorcyklar. Kom och njut av bilar och motorcyklar i alla olika former! Träffen startar klockan 17:00 och håller på till cirka 20-tiden. Vill du vara säker på att se många antal fordon rekommenderar vi att du kommer tidigt. Vill du komma och ställa ut? Insläppet öppnar klockan 17.
URL:https://storadjupsas.se/event/motortorsdag-en-motortraff-pa-torget-for-hela-familjen-3/
LOCATION:Lidköping\, 53130\, Sverige
CATEGORIES:Motor
ATTACH;FMTTYPE=image/png:https://storadjupsas.se/wp-content/uploads/2023/11/Motortorsdag.png
END:VEVENT
BEGIN:VEVENT
DTSTART;TZID=UTC:20240725T170000
DTEND;TZID=UTC:20240725T200000
DTSTAMP:20260424T130742
CREATED:20231123T080347Z
LAST-MODIFIED:20240405T114144Z
UID:2151-1721926800-1721937600@storadjupsas.se
SUMMARY:Motortorsdag i Lidköping - En motorträff på torget för hela familjen
DESCRIPTION:Motortorsdag i Lidköping är ett event för hela familjen och anordnas under fyra torsdagar under sommaren. 13 juni\, 11 juli\, 18 juli och 25 juli 2024. \nMitt på Nya stadens Torg får fordon och utställningsbilar visa upp sig framför det Gamla Rådhuset. Alla fordon är välkomna\, allt från Veteran\, Muskel och Stukade/Stylade till moderna bilar och Motorcyklar. Kom och njut av bilar och motorcyklar i alla olika former! Träffen startar klockan 17:00 och håller på till cirka 20-tiden. Vill du vara säker på att se många antal fordon rekommenderar vi att du kommer tidigt. Vill du komma och ställa ut? Insläppet öppnar klockan 17.
URL:https://storadjupsas.se/event/motortorsdag-en-motortraff-pa-torget-for-hela-familjen-5/
LOCATION:Lidköping\, 53130\, Sverige
CATEGORIES:Motor
ATTACH;FMTTYPE=image/png:https://storadjupsas.se/wp-content/uploads/2023/11/Motortorsdag.png
END:VEVENT
BEGIN:VEVENT
DTSTART;TZID=UTC:20240730T180000
DTEND;TZID=UTC:20240730T210000
DTSTAMP:20260424T130742
CREATED:20240405T111053Z
LAST-MODIFIED:20240405T111053Z
UID:3541-1722362400-1722373200@storadjupsas.se
SUMMARY:Motortisdagar i Malma\, en spontantträff för motorgalna
DESCRIPTION:Motortisdagarna på Backavallen är en trevlig spontanträff som arrangeras på Backavallens idrottsplats på gräs kl 18:00-21:00. \nHar det regnat mycket\, ställs träffen in. Håll koll på facebook-evenemanget. \nGofika i kaffeserveringen med hembakt och vi grillar hamburgare och korv som finns på plats \natt köpa. \nBetalning kan ske kontant med jämna pengar eller swish\, mynt undanbes! \nTisdagar ojämna veckor: \n4 juni \n18 juni \n2 juli \n16 juli \n30 juli \n13 augusti är det avslutning. \nVarmt välkomna!
URL:https://storadjupsas.se/event/motortisdagar-i-malma-en-spontanttraff-for-motorgalna-4/
LOCATION:Malma\, 46591
CATEGORIES:Motor
ATTACH;FMTTYPE=image/png:https://storadjupsas.se/wp-content/uploads/2024/04/Motortisdag-i-Malma.png
END:VEVENT
END:VCALENDAR