BEGIN:VCALENDAR
VERSION:2.0
PRODID:-//Stora Djupsås - ECPv6.15.11//NONSGML v1.0//EN
CALSCALE:GREGORIAN
METHOD:PUBLISH
X-ORIGINAL-URL:https://storadjupsas.se
X-WR-CALDESC:Händelser för Stora Djupsås
REFRESH-INTERVAL;VALUE=DURATION:PT1H
X-Robots-Tag:noindex
X-PUBLISHED-TTL:PT1H
BEGIN:VTIMEZONE
TZID:Europe/Stockholm
BEGIN:DAYLIGHT
TZOFFSETFROM:+0100
TZOFFSETTO:+0200
TZNAME:CEST
DTSTART:20250330T010000
END:DAYLIGHT
BEGIN:STANDARD
TZOFFSETFROM:+0200
TZOFFSETTO:+0100
TZNAME:CET
DTSTART:20251026T010000
END:STANDARD
BEGIN:DAYLIGHT
TZOFFSETFROM:+0100
TZOFFSETTO:+0200
TZNAME:CEST
DTSTART:20260329T010000
END:DAYLIGHT
BEGIN:STANDARD
TZOFFSETFROM:+0200
TZOFFSETTO:+0100
TZNAME:CET
DTSTART:20261025T010000
END:STANDARD
BEGIN:DAYLIGHT
TZOFFSETFROM:+0100
TZOFFSETTO:+0200
TZNAME:CEST
DTSTART:20270328T010000
END:DAYLIGHT
BEGIN:STANDARD
TZOFFSETFROM:+0200
TZOFFSETTO:+0100
TZNAME:CET
DTSTART:20271031T010000
END:STANDARD
END:VTIMEZONE
BEGIN:VEVENT
DTSTART;VALUE=DATE:20260612
DTEND;VALUE=DATE:20260614
DTSTAMP:20260420T234912
CREATED:20260417T170958Z
LAST-MODIFIED:20260417T171413Z
UID:7665-1781222400-1781395199@storadjupsas.se
SUMMARY:Potatisfestivalen i Alingsås
DESCRIPTION:Potatisfestivalen i Alingsås 12–13 juni 2026 \nI juni förvandlas Alingsås till en levande mötesplats när den populära Potatisfestivalen går av stapeln. Festivalen har sina rötter i stadens historia som potatisstad och bjuder idag på en härlig mix av marknad\, lokala delikatesser\, musik och aktiviteter för både stora och små. Här kan du strosa mellan stånd\, upptäcka smaker från trakten och njuta av en somrig festivalstämning i charmig stadsmiljö. \nFör dig som vill uppleva festivalen men samtidigt ha möjlighet att dra dig tillbaka till lugnet är Stora Djupsås ett perfekt val. Här bor du naturnära och rofyllt\, med skog och öppna landskap runt omkring\, samtidigt som du har endast cirka 30 minuter med bil till centrala Alingsås. \nHos oss kan du välja mellan flera olika boendeformer\, allt från lyxigt rum på vår Bed and Breakfast\, enklare ställplatser och tältplatser till mer upplevelsebaserade alternativ som glamping och trädtält. Oavsett hur du vill bo får du en avkopplande bas att landa i efter en dag fylld av intryck. \nDet gör det enkelt att kombinera festivalens liv och rörelse med stillheten på landet\, en helhetsupplevelse som ger det bästa av två världar.
URL:https://storadjupsas.se/event/potatisfestivalen-i-alingsas/
LOCATION:Alingsås\, Alingsås
CATEGORIES:Festival,Kultur,Marknad,Mat
ATTACH;FMTTYPE=image/jpeg:https://storadjupsas.se/wp-content/uploads/2026/04/Potatisfestivalen.jpg
END:VEVENT
BEGIN:VEVENT
DTSTART;VALUE=DATE:20260613
DTEND;VALUE=DATE:20260614
DTSTAMP:20260420T234912
CREATED:20260121T171751Z
LAST-MODIFIED:20260121T173220Z
UID:7060-1781308800-1781395199@storadjupsas.se
SUMMARY:Nostalgifestivalen & Motorlördag 2026 – Nu i Nossebro!
DESCRIPTION:2026 händer något stort: Nostalgifestivalen och Motorlördag flyttar ihop och blir ett mäktigt evenemang i Nossebro! Den13 juni samlas glänsande amerikanare\, hot rods\, europeiska klassiker och motorentusiaster i alla åldrar för en dag fylld av nostalgi\, motorljud och fantastisk stämning. \nFörutom imponerande fordon bjuds det på en stor vintage- och retromarknad\, tävlingar\, musik och upplevelser. Ett måste för hela familjen\, och för alla som älskar bilar\, retro och härlig festivalatmosfär. \nPraktisk info\n\nFörare av utställningsfordon: fri entré (insläpp 07:00–10:00)\nBarn under 13 år i målsmans sällskap: fri entré\nBesöksparkering: gratis
URL:https://storadjupsas.se/event/nostalgifestivalen-motorlordag-2026-nu-i-nossebro/
LOCATION:Nossebro\, 46582
CATEGORIES:Kultur,Marknad,Motor
ATTACH;FMTTYPE=image/avif:https://storadjupsas.se/wp-content/uploads/2026/01/photo-1611179672998-a3f08d00fb76.avif
END:VEVENT
END:VCALENDAR