BEGIN:VCALENDAR
VERSION:2.0
PRODID:-//Stora Djupsås - ECPv6.15.11//NONSGML v1.0//EN
CALSCALE:GREGORIAN
METHOD:PUBLISH
X-WR-CALNAME:Stora Djupsås
X-ORIGINAL-URL:https://storadjupsas.se
X-WR-CALDESC:Händelser för Stora Djupsås
REFRESH-INTERVAL;VALUE=DURATION:PT1H
X-Robots-Tag:noindex
X-PUBLISHED-TTL:PT1H
BEGIN:VTIMEZONE
TZID:Europe/Stockholm
BEGIN:DAYLIGHT
TZOFFSETFROM:+0100
TZOFFSETTO:+0200
TZNAME:CEST
DTSTART:20240331T010000
END:DAYLIGHT
BEGIN:STANDARD
TZOFFSETFROM:+0200
TZOFFSETTO:+0100
TZNAME:CET
DTSTART:20241027T010000
END:STANDARD
BEGIN:DAYLIGHT
TZOFFSETFROM:+0100
TZOFFSETTO:+0200
TZNAME:CEST
DTSTART:20250330T010000
END:DAYLIGHT
BEGIN:STANDARD
TZOFFSETFROM:+0200
TZOFFSETTO:+0100
TZNAME:CET
DTSTART:20251026T010000
END:STANDARD
BEGIN:DAYLIGHT
TZOFFSETFROM:+0100
TZOFFSETTO:+0200
TZNAME:CEST
DTSTART:20260329T010000
END:DAYLIGHT
BEGIN:STANDARD
TZOFFSETFROM:+0200
TZOFFSETTO:+0100
TZNAME:CET
DTSTART:20261025T010000
END:STANDARD
END:VTIMEZONE
BEGIN:VEVENT
DTSTART;TZID=Europe/Stockholm:20250510T100000
DTEND;TZID=Europe/Stockholm:20250510T140000
DTSTAMP:20260422T073116
CREATED:20250227T094639Z
LAST-MODIFIED:20250227T094639Z
UID:4996-1746871200-1746885600@storadjupsas.se
SUMMARY:Vårmarknad i Vara
DESCRIPTION:Vårmarknad i Vara Småstad 2025!\n\n\n\nVårmarknaden äger rum den 10 maj kl 10-14 mitt i Vara småstad. \nVid marknaden kan du njuta av en stor lokal marknad\, food court med olika sorters mat\, barnaktiviteter\, springlopp för barn\, musik på scenen\, med mera. Köpmännen har marknadsbord utanför butikerna runt om i småstaden och massor av finfina vårerbjudanden. \nFullt program kommer när det närmar sig\, håll utkik på hemsidan och sociala medier! \nSälja på marknaden? Kontakta Småstadsutvecklare Maria: maria@varasmastad.se och boka plats! \nKöpmännen hälsar dig varmt välkommen till årets Vårmarknad i Vara Småstad.
URL:https://storadjupsas.se/event/varmarknad-i-vara-2/
LOCATION:Vara\, 53431
CATEGORIES:Marknad
ATTACH;FMTTYPE=image/png:https://storadjupsas.se/wp-content/uploads/2025/02/3.png
END:VEVENT
BEGIN:VEVENT
DTSTART;VALUE=DATE:20250528
DTEND;VALUE=DATE:20250529
DTSTAMP:20260422T073116
CREATED:20250227T082557Z
LAST-MODIFIED:20250227T082557Z
UID:4940-1748390400-1748476799@storadjupsas.se
SUMMARY:Nossebro Marknad: Kropp och Själ
DESCRIPTION:Nossebro Marknad är mer än 120 år gammal och lockar gamla som unga\, lokala som långväga besökare. Marknaden är Sveriges största och äldsta månadsmarknad med sina 500 marknadsplatser\, 1500 knallar och 100 000 besökare årligen. \nNossebro Marknad äger rum sista onsdagen i månaden. Öppettider under 2025\, är kl. 08.00-13.00 men under juni och juli är det öppet till kl. 14.00. \n\n\n\n\nPå marknaden hittar man genuina hantverk\, närproducerade råvaror och handplockade godsaker. Till marknaden vill vi locka eldsjälar och kreatörer i alla former. Vår förhoppning är att det ska vara en mötesplats med fokus på livsglädje och kvalitét!
URL:https://storadjupsas.se/event/nossebro-marknad-kropp-och-sjal/
LOCATION:Nossebro\, 46582
CATEGORIES:Marknad
ATTACH;FMTTYPE=image/png:https://storadjupsas.se/wp-content/uploads/2024/04/Nossebro-Marknad.png
END:VEVENT
END:VCALENDAR