BEGIN:VCALENDAR
VERSION:2.0
PRODID:-//Stora Djupsås - ECPv6.15.11//NONSGML v1.0//EN
CALSCALE:GREGORIAN
METHOD:PUBLISH
X-ORIGINAL-URL:https://storadjupsas.se
X-WR-CALDESC:Händelser för Stora Djupsås
REFRESH-INTERVAL;VALUE=DURATION:PT1H
X-Robots-Tag:noindex
X-PUBLISHED-TTL:PT1H
BEGIN:VTIMEZONE
TZID:Europe/Stockholm
BEGIN:DAYLIGHT
TZOFFSETFROM:+0100
TZOFFSETTO:+0200
TZNAME:CEST
DTSTART:20250330T010000
END:DAYLIGHT
BEGIN:STANDARD
TZOFFSETFROM:+0200
TZOFFSETTO:+0100
TZNAME:CET
DTSTART:20251026T010000
END:STANDARD
BEGIN:DAYLIGHT
TZOFFSETFROM:+0100
TZOFFSETTO:+0200
TZNAME:CEST
DTSTART:20260329T010000
END:DAYLIGHT
BEGIN:STANDARD
TZOFFSETFROM:+0200
TZOFFSETTO:+0100
TZNAME:CET
DTSTART:20261025T010000
END:STANDARD
BEGIN:DAYLIGHT
TZOFFSETFROM:+0100
TZOFFSETTO:+0200
TZNAME:CEST
DTSTART:20270328T010000
END:DAYLIGHT
BEGIN:STANDARD
TZOFFSETFROM:+0200
TZOFFSETTO:+0100
TZNAME:CET
DTSTART:20271031T010000
END:STANDARD
END:VTIMEZONE
BEGIN:VEVENT
DTSTART;VALUE=DATE:20260626
DTEND;VALUE=DATE:20260628
DTSTAMP:20260419T200513
CREATED:20260216T181530Z
LAST-MODIFIED:20260216T181736Z
UID:7128-1782432000-1782604799@storadjupsas.se
SUMMARY:Jordgubbens dag
DESCRIPTION:Välkommen till Jordgubbens dag 2026\n\nJordgubbens dag är ett av sommarens mest älskade evenemang i Vara! Här står jordgubben i centrum\, festivalstämningen är på topp och aktiviteterna är många. Evenemanget är gratis.\n\nDet här kan du se fram emot:– Dansbandskväll på fredagen– Stora artistuppträdanden på lördagen– Gratis jordgubbar med glass– Marknadsknallar och tivoli på torget– Barnaktiviteter i Badhusparken\n\nProgram och bokningar kommer att presenteras under våren.\n\nJordgubbens dag arrangeras av Vara kommun i samarbete med Vara Konserthus\, tillsammans med lokala föreningar\, krögare och våra fantastiska jordgubbsodlare.\n\nVi ses på Stora torget i Vara den 26-27 juni!
URL:https://storadjupsas.se/event/jordgubbens-dag-i-vara/
LOCATION:Vara\, 53431
CATEGORIES:Festival,Marknad
ATTACH;FMTTYPE=image/jpeg:https://storadjupsas.se/wp-content/uploads/2026/02/615800246_901239415769145_5706124652751502107_n.jpg
END:VEVENT
END:VCALENDAR