BEGIN:VCALENDAR
VERSION:2.0
PRODID:-//Stora Djupsås - ECPv6.15.11//NONSGML v1.0//EN
CALSCALE:GREGORIAN
METHOD:PUBLISH
X-ORIGINAL-URL:https://storadjupsas.se
X-WR-CALDESC:Händelser för Stora Djupsås
REFRESH-INTERVAL;VALUE=DURATION:PT1H
X-Robots-Tag:noindex
X-PUBLISHED-TTL:PT1H
BEGIN:VTIMEZONE
TZID:Europe/Stockholm
BEGIN:DAYLIGHT
TZOFFSETFROM:+0100
TZOFFSETTO:+0200
TZNAME:CEST
DTSTART:20240331T010000
END:DAYLIGHT
BEGIN:STANDARD
TZOFFSETFROM:+0200
TZOFFSETTO:+0100
TZNAME:CET
DTSTART:20241027T010000
END:STANDARD
BEGIN:DAYLIGHT
TZOFFSETFROM:+0100
TZOFFSETTO:+0200
TZNAME:CEST
DTSTART:20250330T010000
END:DAYLIGHT
BEGIN:STANDARD
TZOFFSETFROM:+0200
TZOFFSETTO:+0100
TZNAME:CET
DTSTART:20251026T010000
END:STANDARD
BEGIN:DAYLIGHT
TZOFFSETFROM:+0100
TZOFFSETTO:+0200
TZNAME:CEST
DTSTART:20260329T010000
END:DAYLIGHT
BEGIN:STANDARD
TZOFFSETFROM:+0200
TZOFFSETTO:+0100
TZNAME:CET
DTSTART:20261025T010000
END:STANDARD
END:VTIMEZONE
BEGIN:VEVENT
DTSTART;VALUE=DATE:20251003
DTEND;VALUE=DATE:20251011
DTSTAMP:20260420T174444
CREATED:20250227T094103Z
LAST-MODIFIED:20250227T094103Z
UID:4991-1759449600-1760140799@storadjupsas.se
SUMMARY:Nossan Ljusfestival i Grästorp
DESCRIPTION:Nossan Ljusfestival är ett hälsofrämjande arrangemang med spännande och trevliga inslag för både kropp själ\, öga\, öra och mun. Omgivningarna runt vattendraget Nossan kommer att vara spektakulärt belysta på en sträcka av drygt två kilometer. Längs promenadslingan möter du utöver de olika ljusobjekten även spöken i just spökskogen…. \nI det idylliska Forshall bjuds på underhållning och förtäring varje kväll. På stora och lilla scenen uppträder årets gästartister medan krögaren erbjuder en intressant meny med fullständiga rättigheter. \nAllt arbete inför och under festivalen utförs ideellt av de närmare 200 medlemmarna i Grästorps Framtidsförening. Arrangemanget finansieras huvudsakligen med sponsorintäkter från det lokala näringslivet\, lotterier samt ett symboliskt inträde. \nFörberedelserna inför höstens stora fest har startat! Vi uppdaterar sidorna på vår webbsida allteftersom dom blir klara. Håll utkik \nVarmt välkomna.
URL:https://storadjupsas.se/event/nossan-ljusfestival-i-grastorp/
LOCATION:Grästorp\, Grästorp\, 46731\, Sweden
CATEGORIES:Festival
ATTACH;FMTTYPE=image/jpeg:https://storadjupsas.se/wp-content/uploads/2023/11/Nossan-ljusfestival.jpg
END:VEVENT
BEGIN:VEVENT
DTSTART;TZID=Europe/Stockholm:20251003T000000
DTEND;TZID=Europe/Stockholm:20251012T000000
DTSTAMP:20260420T174444
CREATED:20250502T160147Z
LAST-MODIFIED:20250502T160147Z
UID:5257-1759449600-1760227200@storadjupsas.se
SUMMARY:Spökvandring i Majslabyrinten
DESCRIPTION:Våra vanliga banor har nu tillfälligt förvandlats till spökvandring med Bingo. Här kommer ni få gå spökbingo i en förbestämd bana så ni inte går vilse. \n\n\n\n\nFör de allra modigaste kan en välja att gå in på läskiga stigen där du med all säkerhet kommer möta döingar! \nVi vill att alla ska ha så läskigt trevligt som möjligt hos oss\, så föräldrar tänk till en extra gång\, innan ni tar med era barn in\, slingan går inte att gå ifrån eller ångra sig när man väl gått in. \nÄr en under 18 år går en med en vuxen. Anledningen till detta är att vi vill att både besökare & personal ska ha en rolig kväll. \nDet är bara att komma\, ingen förbokning krävs! \nKan bli kö men vi släpper in löpande. \nLäskighetsgrad: Mycket läskigt \n3-4 Okt & 10-11 Okt \nKl. 19:00-21:00
URL:https://storadjupsas.se/event/spokvandring-i-majslabyrinten/
LOCATION:Tråvad\, 53492
CATEGORIES:Upplevelse
ATTACH;FMTTYPE=image/jpeg:https://storadjupsas.se/wp-content/uploads/2025/05/Namnlos.jpg
ORGANIZER;CN="Bondfrun":MAILTO:bondfruns@gmail.com
END:VEVENT
END:VCALENDAR