BEGIN:VCALENDAR
VERSION:2.0
PRODID:-//Stora Djupsås - ECPv6.15.11//NONSGML v1.0//EN
CALSCALE:GREGORIAN
METHOD:PUBLISH
X-WR-CALNAME:Stora Djupsås
X-ORIGINAL-URL:https://storadjupsas.se
X-WR-CALDESC:Händelser för Stora Djupsås
REFRESH-INTERVAL;VALUE=DURATION:PT1H
X-Robots-Tag:noindex
X-PUBLISHED-TTL:PT1H
BEGIN:VTIMEZONE
TZID:Europe/Stockholm
BEGIN:DAYLIGHT
TZOFFSETFROM:+0100
TZOFFSETTO:+0200
TZNAME:CEST
DTSTART:20240331T010000
END:DAYLIGHT
BEGIN:STANDARD
TZOFFSETFROM:+0200
TZOFFSETTO:+0100
TZNAME:CET
DTSTART:20241027T010000
END:STANDARD
BEGIN:DAYLIGHT
TZOFFSETFROM:+0100
TZOFFSETTO:+0200
TZNAME:CEST
DTSTART:20250330T010000
END:DAYLIGHT
BEGIN:STANDARD
TZOFFSETFROM:+0200
TZOFFSETTO:+0100
TZNAME:CET
DTSTART:20251026T010000
END:STANDARD
BEGIN:DAYLIGHT
TZOFFSETFROM:+0100
TZOFFSETTO:+0200
TZNAME:CEST
DTSTART:20260329T010000
END:DAYLIGHT
BEGIN:STANDARD
TZOFFSETFROM:+0200
TZOFFSETTO:+0100
TZNAME:CET
DTSTART:20261025T010000
END:STANDARD
END:VTIMEZONE
BEGIN:VEVENT
DTSTART;TZID=Europe/Stockholm:20250829T000000
DTEND;TZID=Europe/Stockholm:20250928T000000
DTSTAMP:20260420T175050
CREATED:20250502T155535Z
LAST-MODIFIED:20250502T161255Z
UID:5250-1756425600-1759017600@storadjupsas.se
SUMMARY:Majslabyrint
DESCRIPTION:Mitt ute i ingenmansland hittar du den majestätiska Majslabyrinten som sträcker sig så långt ögat kan nå. Här har många provat sin lycka och kanske har du vad som krävs för att klara en av våra utmaningar. Väl inne börjar ditt livs äventyr och se till att följa kartan…                            Du vill inte bli fast! \nMitt ute i landsidyllen utanför Vara ligger våra grisgårdar Stommen Long och GP Farm som båda drivs av mig Marie-Louise och min man. Här hittar ni vår 9 hektar stora majslabyrint (motsvarande 18 fotbollsplaner). Varje år ritar vi upp en helt ny design så besökare kan komma år efter år. \nVälj mellan att gå långa rundan\, korta rundan eller leta bokstäver! \nVi har öppet i Majslabyrinten fredag\, lördag & söndag: 29-31 augusti samt hela september\, kl 11-18 \nVåran Cafévagn är öppen! Det finns korv med bröd å fika att köpa på plats alla dagar! \nGårdsbutiken är öppen alla dagar 08-20
URL:https://storadjupsas.se/event/majslabyrint/
LOCATION:Tråvad\, 53492
CATEGORIES:Upplevelse,Vandring
ATTACH;FMTTYPE=image/png:https://storadjupsas.se/wp-content/uploads/2025/05/Oppettider.png
ORGANIZER;CN="Bondfrun":MAILTO:bondfruns@gmail.com
END:VEVENT
END:VCALENDAR