BEGIN:VCALENDAR
VERSION:2.0
PRODID:-//Stora Djupsås - ECPv6.15.11//NONSGML v1.0//EN
CALSCALE:GREGORIAN
METHOD:PUBLISH
X-ORIGINAL-URL:https://storadjupsas.se
X-WR-CALDESC:Händelser för Stora Djupsås
REFRESH-INTERVAL;VALUE=DURATION:PT1H
X-Robots-Tag:noindex
X-PUBLISHED-TTL:PT1H
BEGIN:VTIMEZONE
TZID:Europe/Stockholm
BEGIN:DAYLIGHT
TZOFFSETFROM:+0100
TZOFFSETTO:+0200
TZNAME:CEST
DTSTART:20240331T010000
END:DAYLIGHT
BEGIN:STANDARD
TZOFFSETFROM:+0200
TZOFFSETTO:+0100
TZNAME:CET
DTSTART:20241027T010000
END:STANDARD
BEGIN:DAYLIGHT
TZOFFSETFROM:+0100
TZOFFSETTO:+0200
TZNAME:CEST
DTSTART:20250330T010000
END:DAYLIGHT
BEGIN:STANDARD
TZOFFSETFROM:+0200
TZOFFSETTO:+0100
TZNAME:CET
DTSTART:20251026T010000
END:STANDARD
BEGIN:DAYLIGHT
TZOFFSETFROM:+0100
TZOFFSETTO:+0200
TZNAME:CEST
DTSTART:20260329T010000
END:DAYLIGHT
BEGIN:STANDARD
TZOFFSETFROM:+0200
TZOFFSETTO:+0100
TZNAME:CET
DTSTART:20261025T010000
END:STANDARD
END:VTIMEZONE
BEGIN:VEVENT
DTSTART;VALUE=DATE:20250828
DTEND;VALUE=DATE:20250829
DTSTAMP:20260420T130452
CREATED:20250227T115910Z
LAST-MODIFIED:20250227T115910Z
UID:5011-1756339200-1756425599@storadjupsas.se
SUMMARY:Kvarterskultur i Vara
DESCRIPTION:Kvarterskultur sprider kultur i hela Vara Småstad!\n\n\n\nKvarterskultur är en småstadsfestival som äger rum i slutet av sommaren i Vara Småstad. Ett festivalområde fylls med lokal matmarknad\, konst\, food trucks\, musik och prova på-stationer för allehanda kulturformer. Massor av lokal kultur att ta del av samt barnaktiviteter. \nNär: 28 Augusti till kl 20.00 2025 \nVar: i Vara småstad. \nEvenemanget är kostnadsfritt och det finns möjlighet att köpa mat och fika på plats. \n  \nFullt program för evenemanget publiceras på hemsidan och på sociala medier\, följ Köpmännen i Vara Småstad! \nSom arrangör av Kvarterskultur står Köpmännen i Vara Småstad\, men föreningar\, skolor och flera andra lokala aktörer bidrar till att göra evenemanget till en inspirerande\, rolig och minnesvärd kulturupplevelse för såväl Varabor som utsocknes besökare.
URL:https://storadjupsas.se/event/kvarterskultur-i-vara-2/
LOCATION:Vara\, 53431
CATEGORIES:Kultur
ATTACH;FMTTYPE=image/png:https://storadjupsas.se/wp-content/uploads/2025/02/2.png
END:VEVENT
END:VCALENDAR