BEGIN:VCALENDAR
VERSION:2.0
PRODID:-//Stora Djupsås - ECPv6.15.11//NONSGML v1.0//EN
CALSCALE:GREGORIAN
METHOD:PUBLISH
X-ORIGINAL-URL:https://storadjupsas.se
X-WR-CALDESC:Händelser för Stora Djupsås
REFRESH-INTERVAL;VALUE=DURATION:PT1H
X-Robots-Tag:noindex
X-PUBLISHED-TTL:PT1H
BEGIN:VTIMEZONE
TZID:UTC
BEGIN:STANDARD
TZOFFSETFROM:+0000
TZOFFSETTO:+0000
TZNAME:UTC
DTSTART:20240101T000000
END:STANDARD
END:VTIMEZONE
BEGIN:VEVENT
DTSTART;VALUE=DATE:20250805
DTEND;VALUE=DATE:20250808
DTSTAMP:20260420T101206
CREATED:20250107T135405Z
LAST-MODIFIED:20250730T184716Z
UID:4620-1754352000-1754611199@storadjupsas.se
SUMMARY:Keramikkurs
DESCRIPTION:Keramikkurs\nUnder 3 dagar ägnar vi oss åt att skapa i lera hos hos Agneta på Hillestorps Krukmakeri. Hennes keramikverkstad ligger mycket vackert beläget på landet utanför Tumleberg i Vara kommun. På denna kurs får prova på flera olika tekniker så som ringling\, kavling\, drejning och tumning. \nKursen är på tre dagar efter varandra och gruppen hålls liten så att alla får hjälp genom de olika momenten. Kursen riktar sig både till dig som är nybörjare och du med tidigare erfarenhet av att skapa i lera. \nDag 1: vi startar med en introduktion där olika tekniker visas samt enklare fika. Vi går igenom kavling\, tumning\, ringling och drejning. Det finns 3 stycken drejskivor\, 2 stycken elskivor och 1 sparkskiva. Därefter är det fritt val av teknik. Att dreja är en konst. Kursledaren Agneta sitter intill och hjälper er igenom drejmomenten när ni drejar första gången. Sen kommer ni få hjälp med centreringen så att man kommer igång\, därefter arbetar du självständigt på drejskivan och Agneta finns där för att ge tips och råd. \nDag 2: vi jobbar på och provar olika tekniker. \nDag 3: vi tar hand om det vi redan skapat; putsar och “beskickar” det drejade och det är fritt att fortsätta skapa något utifrån de tekniker vi lärt oss. \nTiderna är 10:00 – 16:00 alla tre dagarna. \nVad ingår? 3 dagars kurs inklusive skröjbränning\, glasering och glasyrbränning av det ni gjort. Det ingår även fika\, lunch under de tre dagarna och kvällsmat och frukost vid två tillfällen. Boende enligt ert val i 2 nätter. Se nedan info kring boendealternativen. \nVad behöver du förbereda?\nTa med oömma kläder och skor. \nFörkunskaper och ålder\nInga förkunskaper krävs. Från 15 år. \nKostnad för lera:\nLera (inkl. glasyr) kostar 80:-/kg. Den vägs upp och betalas vid avslutningen av sista kursdagen. \nEfter ca 6-8 veckor är det ni tillverkat klart att hämta hos Hillestorps Keramik. Bor du långt ifrån skickas dina saker mot fraktkostnaden. \nHos oss kan ni bo antingen i lyxiga glampingtält som har sängar i hotellstandard\, i ett häftigt trädtält som svävar ovanför marken invid ån Nossan\, i eget tält\, egen husbil eller husvagn. Platserna är begränsade så först till kvarn: max 6 personer per tillfälle. \nPriser\n-Glampingtält: 6100:-/person (del i 2-manna eller 4-manna tält. Sängkläder\, handduk och morgonrock ingår)\n-Trädtält: 5100:-/person (del i 2-mannatält\, sovsäck med sovsäckslakan\, handduk och kudde ingår)\n-Tältplats: 4900:-/person (ej el\, tältplats för två personer*)\n-Ställplats 4900:-/person (inkl. el\, ställplats för två personer*) \nHar du frågor eller vill boka? Maila oss på info@storadjupsas.se eller ring till till Agneta gällande funderingar kring keramikdelen 076-138 11 68. Anmälan senast en vecka innan kursstart. Varmt välkomna! \nAvbokning sker via personlig kontakt: mail eller telefon. Avbokning fram tills det är 2 veckor kvar till kursstart innebär att vi tar ut en administrationsavgift om 10% av den totala kostnaden. Avbokning senare än två veckor innan kursstart innebär debitering av 50% av den totala kostnaden. Avbokning senare än en vecka innan kursstart innebär full debitering. \n*För ytterligare personer utöver två så debiteras 250kr per boende
URL:https://storadjupsas.se/event/keramikkurs-2/
CATEGORIES:Hantverk
ATTACH;FMTTYPE=image/jpeg:https://storadjupsas.se/wp-content/uploads/2024/12/20231014_074036-scaled.jpg
ORGANIZER;CN="Stora Djups%C3%A5s":MAILTO:info@storadjupsas.se
END:VEVENT
END:VCALENDAR