BEGIN:VCALENDAR
VERSION:2.0
PRODID:-//Stora Djupsås - ECPv6.15.11//NONSGML v1.0//EN
CALSCALE:GREGORIAN
METHOD:PUBLISH
X-ORIGINAL-URL:https://storadjupsas.se
X-WR-CALDESC:Händelser för Stora Djupsås
REFRESH-INTERVAL;VALUE=DURATION:PT1H
X-Robots-Tag:noindex
X-PUBLISHED-TTL:PT1H
BEGIN:VTIMEZONE
TZID:UTC
BEGIN:STANDARD
TZOFFSETFROM:+0000
TZOFFSETTO:+0000
TZNAME:UTC
DTSTART:20240101T000000
END:STANDARD
END:VTIMEZONE
BEGIN:VTIMEZONE
TZID:Europe/Stockholm
BEGIN:DAYLIGHT
TZOFFSETFROM:+0100
TZOFFSETTO:+0200
TZNAME:CEST
DTSTART:20240331T010000
END:DAYLIGHT
BEGIN:STANDARD
TZOFFSETFROM:+0200
TZOFFSETTO:+0100
TZNAME:CET
DTSTART:20241027T010000
END:STANDARD
BEGIN:DAYLIGHT
TZOFFSETFROM:+0100
TZOFFSETTO:+0200
TZNAME:CEST
DTSTART:20250330T010000
END:DAYLIGHT
BEGIN:STANDARD
TZOFFSETFROM:+0200
TZOFFSETTO:+0100
TZNAME:CET
DTSTART:20251026T010000
END:STANDARD
BEGIN:DAYLIGHT
TZOFFSETFROM:+0100
TZOFFSETTO:+0200
TZNAME:CEST
DTSTART:20260329T010000
END:DAYLIGHT
BEGIN:STANDARD
TZOFFSETFROM:+0200
TZOFFSETTO:+0100
TZNAME:CET
DTSTART:20261025T010000
END:STANDARD
END:VTIMEZONE
BEGIN:VEVENT
DTSTART;VALUE=DATE:20250606
DTEND;VALUE=DATE:20250608
DTSTAMP:20260420T190917
CREATED:20241108T113443Z
LAST-MODIFIED:20241108T113444Z
UID:4233-1749168000-1749340799@storadjupsas.se
SUMMARY:Kravlös avslappningshelg med god mat i vacker miljö
DESCRIPTION:Detta paket erbjuder både avkoppling\, själslig och kroppslig vård i form av olika pass samt god mat och boende i fantastisk naturnära och vacker miljö. \nI paketet ingår\n– Gongbad\, sound healing samt gongmeditation fördelat på två dagar som leds av Majvor på Majas Massage\n– Eftermiddagsfika\n– 2-rätters meny till kvällsmat\n– Övernattning på Stora Djupsås\n– Frukostkorg \nPriser\nGlampingtält: 2100:-/person (del i 2-manna eller 4-manna tält. Sängkläder\, handduk och morgonrock ingår)\nTrädtält: 1650:-/person (del i 2-mannatält\, sovsäck med sovsäckslakan\, handduk och kudde ingår)\nTältplats: 1550:-/person (ej el\, inkl tältplats för två personer*)\nStällplats 1550:-/person (inkl. el\, inkl ställplats för två personer*)\nEndast passen och mat: 1250:-/person (allt utom boende ingår) \nHelgen ser ut som följer:\nNi anländer till Stora Djupsås 14:00. Bor ni hos oss så checkar ni in och förbereder er för första passet\, gongbad\, som startar 15:00. Det är en terapeutisk och meditativ upplevelse där du ”badar” i ljud och vibrationer som produceras av gongar men även andra soundhealing instrument. Genom dessa ljud och vibrationer går ditt sinne i ett meditativt och avslappnat tillstånd. Detta åstadkommer läkning på mentala\, emotionella och fysiska nivåer.\nTill kvällsmat erbjuds ni en två-rätters middag och efter denna är intagen så startar ett pass med läkande sound healing: denna hjälper dig att hantera stress\, bli mer närvarande och lyssna inåt till din kropp och själ. Vi hoppas på lämpligt väder så att detta kan ske vid en mysig öppen eld i trädgården.\nLördagen startar med gongmeditation och därefter finns er frukostkorg färdig att avnjutas\, Utcheckning kl 11:00.\nDet kommer finnas möjlighet att boka tarotläsning vid vissa tider under dessa dagar\, bokning och betalning av detta sker på plats. Detta erbjuds som ett tillval och till en symbolisk summa av 200kr.\nVatten erbjuds till måltiderna. Önskar ni annan dryck så kan ni antingen ta med er egen eller köpa alkoholfria alternativ i Hönshuset hos oss. Vi kommer i mesta möjliga mån ha aktiviteterna utomhus så tänk på att ta med er kläder efter väder. Extra bra är en varm tröja till passen och har ni yogamatta/liggunderlag så ta vänligen med denna. Finns ett fåtal att låna på plats. \nHar du frågor eller vill boka? Maila oss på info@storadjupsas.se \nVarmt välkomna! \nAvbokning sker via personlig kontakt: mail eller telefon. Avbokning senare än 6/5-25 innebär att vi tar ut en avbokningsavgift om 10% av den totala kostnaden. Avbokning senare än 23/5-25 innebär debitering av 50% av den totala kostnaden. Avbokning senare än 30/5-25 innebär full debitering. \n*För ytterligare personer utöver två så debiteras 250kr per boende
URL:https://storadjupsas.se/event/kravlos-avslappningshelg-med-god-mat-i-vacker-miljo/
LOCATION:Stora Djupsås
CATEGORIES:Wellbeing
ATTACH;FMTTYPE=image/jpeg:https://storadjupsas.se/wp-content/uploads/2024/11/pexels-felipe-borges-964530-2597205-1-scaled.jpg
END:VEVENT
BEGIN:VEVENT
DTSTART;VALUE=DATE:20250607
DTEND;VALUE=DATE:20250608
DTSTAMP:20260420T190917
CREATED:20250227T090210Z
LAST-MODIFIED:20250227T090210Z
UID:4961-1749254400-1749340799@storadjupsas.se
SUMMARY:Nossebro Motorlördag
DESCRIPTION:Välkomna till Nossebro motorlördag den 7 juni -2025\, 9:00-15:00. \n  \nEn dag för alla retro & motorgalna! Hit kommer mänger av gamla veteranbilar\, MC\, mopeder\, A-traktorer och veterantraktorer. Märkesklubbar kan få en egen avsedd plats. \nRoliga aktiviteter under dagen för alla åldrar.\n· Swap meet\, försäljning av vintage- och retroprylar.\n. Uppvisning/show\n. Märkesparkeringar\n. Underhållning\n. Publikens röst. Lämnas in vid scenen\, senast kl.13.00.\n. Prisutdelning publikens röst\, ca. kl.14.00.\n. Aktiviteter för barnen\, Nossebro Bad & Camping är öppet.\nFullständigt program kommer!\nMat och fika finns på plats! \nEntré: Gratis\nParkeringsavgift: 100kr per bil oavsett hur många ni är i bilen\, avgiften går till föreningslivet som sköter parkering och städning.
URL:https://storadjupsas.se/event/nossebro-motorlordag/
LOCATION:Nossebro\, 46582
CATEGORIES:Motor
ATTACH;FMTTYPE=image/png:https://storadjupsas.se/wp-content/uploads/2025/02/Namnlos-1.png
END:VEVENT
END:VCALENDAR