BEGIN:VCALENDAR
VERSION:2.0
PRODID:-//Stora Djupsås - ECPv6.15.11//NONSGML v1.0//EN
CALSCALE:GREGORIAN
METHOD:PUBLISH
X-ORIGINAL-URL:https://storadjupsas.se
X-WR-CALDESC:Händelser för Stora Djupsås
REFRESH-INTERVAL;VALUE=DURATION:PT1H
X-Robots-Tag:noindex
X-PUBLISHED-TTL:PT1H
BEGIN:VTIMEZONE
TZID:UTC
BEGIN:STANDARD
TZOFFSETFROM:+0000
TZOFFSETTO:+0000
TZNAME:UTC
DTSTART:20230101T000000
END:STANDARD
END:VTIMEZONE
BEGIN:VEVENT
DTSTART;TZID=UTC:20240925T080000
DTEND;TZID=UTC:20240925T130000
DTSTAMP:20260419T175331
CREATED:20240405T072717Z
LAST-MODIFIED:20240405T072717Z
UID:3515-1727251200-1727269200@storadjupsas.se
SUMMARY:Nossebro marknad\, Sveriges största månadsmarknad
DESCRIPTION:Välkommen till Sveriges största månadsmarknad!  \nVi erbjuder dig ett brett utbud av traditionellt marknadssortiment\, återbruk/bakluckeloppis (januari-maj & september-november) och ett unikt tema. Denna månad erbjuds tema Skog och jakt\, förbered dig inför jaktsäsongen. Företagen ger dig de bästa råd om jaktlicens\, jaktutrustning och prova på skyttesimulator. \nMarknaden är öppen mellan kl.08.00-13.00 \nÅrets tema marknader mars till november finner ni på marknadsområdet mittemot ICA. \n– 25 september\, Skog & Jakt \n– 30 oktober\, Närproducerat \n-27 november\, Jul \nSkulle marknadsbesöket göra dig trött i benen eller sugen på fika eller mat finns Foodtrucks och serveringstält inne på marknadsområdet. \nDessutom finns det flera trevliga restauranger och caféer runtom i Nossebro centrum. \nVill du komma dagen innan och övernatta? Kolla in våra unika boendemöjligheter i kommunen här. \nhttps://www.vastsverige.com/essunga-nossebro/boende2/ \nOm ni vill sälja eller synas på Nossebro marknad\, ring 0512-570 17 eller maila: nossebromarknad@essunga.se \nwww.nossebromarknad.se \nTuristwebb: https://www.vastsverige.com/essunga-nossebro/ \nVarmt välkommen att besöka Nossebro Marknad!
URL:https://storadjupsas.se/event/nossebro-marknad-sveriges-storsta-manadsmarknad-3/
LOCATION:Nossebro\, 46582
CATEGORIES:Marknad
ATTACH;FMTTYPE=image/png:https://storadjupsas.se/wp-content/uploads/2024/04/Nossebro-Marknad.png
END:VEVENT
END:VCALENDAR