BEGIN:VCALENDAR
VERSION:2.0
PRODID:-//Stora Djupsås - ECPv6.15.11//NONSGML v1.0//EN
CALSCALE:GREGORIAN
METHOD:PUBLISH
X-ORIGINAL-URL:https://storadjupsas.se
X-WR-CALDESC:Händelser för Stora Djupsås
REFRESH-INTERVAL;VALUE=DURATION:PT1H
X-Robots-Tag:noindex
X-PUBLISHED-TTL:PT1H
BEGIN:VTIMEZONE
TZID:UTC
BEGIN:STANDARD
TZOFFSETFROM:+0000
TZOFFSETTO:+0000
TZNAME:UTC
DTSTART:20230101T000000
END:STANDARD
END:VTIMEZONE
BEGIN:VEVENT
DTSTART;VALUE=DATE:20240829
DTEND;VALUE=DATE:20240830
DTSTAMP:20260421T205637
CREATED:20240405T113330Z
LAST-MODIFIED:20240405T113330Z
UID:3559-1724889600-1724975999@storadjupsas.se
SUMMARY:Kvarterskultur i Vara
DESCRIPTION:En småstadsfestival i Vara Småstad\n\n\n\nKvarterskultur är en småstadsfestival som äger rum i slutet av sommaren i Vara Småstad. Ett festivalområde fylls med lokal matmarknad\, konst\, food trucks\, musik och prova på-stationer för allehanda kulturformer. Massor av lokal kultur att ta del av samt barnaktiviteter. \nNär: 29 Augusti till kl 20.00 \nVar: i Vara småstad \nEvenemanget är kostnadsfritt och det finns möjlighet att köpa mat och fika på plats. \nSom arrangör av Kvarterskultur står Köpmännen i Vara Småstad\, men föreningar\, skolor och flera andra lokala aktörer bidrar till att göra evenemanget till en inspirerande\, rolig och minnesvärd kulturupplevelse för såväl Varabor som utsocknes besökare. \n  \nVill du delta? Maila Småstadsutvecklare Maria: maria@varasmastad.se
URL:https://storadjupsas.se/event/kvarterskultur-i-vara/
LOCATION:Vara\, 53431
CATEGORIES:Kultur,Mat
ATTACH;FMTTYPE=image/png:https://storadjupsas.se/wp-content/uploads/2024/04/Kvarterskultur.png
END:VEVENT
END:VCALENDAR