BEGIN:VCALENDAR
VERSION:2.0
PRODID:-//Stora Djupsås - ECPv6.15.11//NONSGML v1.0//EN
CALSCALE:GREGORIAN
METHOD:PUBLISH
X-ORIGINAL-URL:https://storadjupsas.se
X-WR-CALDESC:Händelser för Stora Djupsås
REFRESH-INTERVAL;VALUE=DURATION:PT1H
X-Robots-Tag:noindex
X-PUBLISHED-TTL:PT1H
BEGIN:VTIMEZONE
TZID:UTC
BEGIN:STANDARD
TZOFFSETFROM:+0000
TZOFFSETTO:+0000
TZNAME:UTC
DTSTART:20230101T000000
END:STANDARD
END:VTIMEZONE
BEGIN:VEVENT
DTSTART;VALUE=DATE:20240719
DTEND;VALUE=DATE:20240722
DTSTAMP:20260422T004956
CREATED:20231123T082329Z
LAST-MODIFIED:20240102T101940Z
UID:2159-1721347200-1721606399@storadjupsas.se
SUMMARY:Fallens dagar - Stadsfestival som bjuder på fallpåsläpp\, musik\, tävlingar och mycket mer
DESCRIPTION:Fallens Dagar är Sveriges äldsta stadsfestival och inleds alltid på den tredje fredagen i juli. Sedan starten 1959 så har Fallens Dagar bjudit sina besökare på storslagen musik\, roliga aktiviteter för hela familjen\, en stor variation av framträdanden och massor med spännande tävlingar. \nFestivalen vid Trollhättefallen\nFallens Dagar har fått sitt namn efter stadens stora sevärdhet Trollhättefallen. Under festivalen kan du självklart se när vattnet än en gång forsar i den annars tomma fallfåran under specifika tider. I närheten av Trollhättefallen arrangeras också flera uppträdanden och aktiviteter. \nStora artister från när och fjärran\nFallens Dagar har välkomnat flera stora artister under åren både lokala svenska artister men även internationella musiker. Njut av musiken i en lugn och mysig miljö vid mindre scener eller en storslagen konsert från den Stora Scenen i Folkets park. \nKraftprovet och tälten vid Hansenplatsen\nLängs med Åkersbergsvägen som kopplar samman Trollhättans centrum och Trollhättefallen finns tält från lokala aktörer som visar upp sina verksamheter. Hansenplatsen som den kallas är också utgångspunkt för det populära Kraftprovet som hålls på första festivaldagen på fredagen\, ett lopp som går runt Trollhättans vackra Fall- och slussområde. \n  \nProgrammet presenteras på Fallens Dagars hemsida
URL:https://storadjupsas.se/event/fallens-dagar-stadsfestival-som-bjuder-pa-fallpaslapp-musik-tavlingar-och-mycket-mer/
LOCATION:Trollhättan\, 46153\, Sverige
ATTACH;FMTTYPE=image/png:https://storadjupsas.se/wp-content/uploads/2023/11/Fallens-dagar.png
END:VEVENT
END:VCALENDAR