BEGIN:VCALENDAR
VERSION:2.0
PRODID:-//Stora Djupsås - ECPv6.15.11//NONSGML v1.0//EN
CALSCALE:GREGORIAN
METHOD:PUBLISH
X-WR-CALNAME:Stora Djupsås
X-ORIGINAL-URL:https://storadjupsas.se
X-WR-CALDESC:Händelser för Stora Djupsås
REFRESH-INTERVAL;VALUE=DURATION:PT1H
X-Robots-Tag:noindex
X-PUBLISHED-TTL:PT1H
BEGIN:VTIMEZONE
TZID:UTC
BEGIN:STANDARD
TZOFFSETFROM:+0000
TZOFFSETTO:+0000
TZNAME:UTC
DTSTART:20230101T000000
END:STANDARD
END:VTIMEZONE
BEGIN:VEVENT
DTSTART;TZID=UTC:20240618T180000
DTEND;TZID=UTC:20240618T210000
DTSTAMP:20260420T173154
CREATED:20240405T075339Z
LAST-MODIFIED:20240405T110511Z
UID:3526-1718733600-1718744400@storadjupsas.se
SUMMARY:Motortisdagar i Malma\, en spontantträff för motorgalna
DESCRIPTION:Motortisdagarna på Backavallen är en trevlig spontanträff som arrangeras på Backavallens idrottsplats på gräs kl 18:00-21:00. \nHar det regnat mycket\, ställs träffen in. Håll koll på facebook-evenemanget. \nGofika i kaffeserveringen med hembakt och vi grillar hamburgare och korv som finns på plats \natt köpa. \nBetalning kan ske kontant med jämna pengar eller swish\, mynt undanbes! \nTisdagar ojämna veckor: \n4 juni \n18 juni \n2 juli \n16 juli \n30 juli \n13 augusti är det avslutning. \nVarmt välkomna!
URL:https://storadjupsas.se/event/motortisdagar-i-malma-en-spontanttraff-for-motorgalna/
LOCATION:Malma\, 46591
CATEGORIES:Motor
ATTACH;FMTTYPE=image/png:https://storadjupsas.se/wp-content/uploads/2024/04/Motortisdag-i-Malma.png
END:VEVENT
END:VCALENDAR