BEGIN:VCALENDAR
VERSION:2.0
PRODID:-//Stora Djupsås - ECPv6.15.11//NONSGML v1.0//EN
CALSCALE:GREGORIAN
METHOD:PUBLISH
X-ORIGINAL-URL:https://storadjupsas.se/en/
X-WR-CALDESC:Events for Stora Djupsås
REFRESH-INTERVAL;VALUE=DURATION:PT1H
X-Robots-Tag:noindex
X-PUBLISHED-TTL:PT1H
BEGIN:VTIMEZONE
TZID:UTC
BEGIN:STANDARD
TZOFFSETFROM:+0000
TZOFFSETTO:+0000
TZNAME:UTC
DTSTART:20240101T000000
END:STANDARD
END:VTIMEZONE
BEGIN:VEVENT
DTSTART;VALUE=DATE:20250606
DTEND;VALUE=DATE:20250608
DTSTAMP:20260424T220602
CREATED:20241108T113443Z
LAST-MODIFIED:20250522T132602Z
UID:4451-1749168000-1749340799@storadjupsas.se
SUMMARY:A relaxating weekend with tasty food in beautiful surroundings
DESCRIPTION:This package offers relaxation\, mental and physical care in the form of various sessions as well as good food and accommodation in a fantastic natural and beautiful environment. \nThe package includes\n– Gong bath\, sound healing and gong meditation spread over two days led by Majvor at Majas Massage\n– Afternoon coffee\n– 2-course menu for dinner\n– Overnight stay at Stora Djupsås\n– Breakfast basket Prices\nGlamping tent: 2100: – / person (part of 2-man or 4-man tent. Bedding\, towel and bathrobe included)\nWooden tent: 1650:-/person (part of 2-man tent\, sleeping bag with sleeping bag sheets\, towel and pillow included)\nTent site: 1550:-/person (no electricity\, incl. tent site for two people*)\nReal campsite 1550:-/person (incl. electricity\, incl. pitch for two people*)\nOnly passports and food: 1250: -/person (everything except accommodation is included) The weekend looks as follows:\nYou arrive at Stora Djupsås 14:00. If you stay with us\, you check in and prepare for the first session\, gong bath\, which starts at 15:00. It is a therapeutic and meditative experience where you “bathe” in sounds and vibrations produced by gongs but also other sound healing instruments. Through these sounds and vibrations\, your mind goes into a meditative and relaxed state. This brings about healing on mental\, emotional and physical levels.\nFor supper you will be offered a two-course dinner and after this is taken\, a session of healing sound healing will start: this will help you deal with stress\, become more present and listen inward to your body and soul. We hope for suitable weather so that this can take place by a cozy open fire in the garden.\nSaturday starts with gong meditation and then your breakfast basket is ready to be enjoyed\, Check-out at 11:00.\nIt will be possible to book a tarot reading at certain times during these days\, booking and payment of this is done on site. This is offered as an option and for a symbolic sum of SEK 200.\nWater is offered with meals. If you want other drinks\, you can either bring your own or buy non-alcoholic alternatives in the Hen House with us. We will have the activities outdoors as much as possible so remember to bring clothes according to the weather. Extra good is a warm sweater for the sessions and if you have a yoga mat / lying mat\, please bring this. There are a few to borrow on site. \nDo you have questions or want to book? Email us at info@storadjupsas.se \nA warm welcome! \nCancellation through personal contact only: email or phone. Cancellation later than 6/5-25 means that we charge a cancellation fee of 10% of the total cost. Cancellation later than 23/5-25 means charging 50% of the total cost. Cancellation later than 30/5-25 means full charge. \n*For additional persons beyond two\, SEK 250 per accommodation will be charged
URL:https://storadjupsas.se/en/event/undemanding-relaxation-weekend-with-good-food-in-beautiful-surroundings/
LOCATION:Stora Djupsås\, Stora Djupsås 401\, Nossebro
CATEGORIES:Wellbeing
ATTACH;FMTTYPE=image/jpeg:https://storadjupsas.se/wp-content/uploads/2024/11/pexels-felipe-borges-964530-2597205-1-scaled.jpg
END:VEVENT
END:VCALENDAR