BEGIN:VCALENDAR
VERSION:2.0
PRODID:-//Stora Djupsås - ECPv6.15.11//NONSGML v1.0//EN
CALSCALE:GREGORIAN
METHOD:PUBLISH
X-WR-CALNAME:Stora Djupsås
X-ORIGINAL-URL:https://storadjupsas.se/en/
X-WR-CALDESC:Events for Stora Djupsås
REFRESH-INTERVAL;VALUE=DURATION:PT1H
X-Robots-Tag:noindex
X-PUBLISHED-TTL:PT1H
BEGIN:VTIMEZONE
TZID:UTC
BEGIN:STANDARD
TZOFFSETFROM:+0000
TZOFFSETTO:+0000
TZNAME:UTC
DTSTART:20240101T000000
END:STANDARD
END:VTIMEZONE
BEGIN:VEVENT
DTSTART;VALUE=DATE:20250517
DTEND;VALUE=DATE:20250518
DTSTAMP:20260422T012412
CREATED:20241128T074243Z
LAST-MODIFIED:20241128T074243Z
UID:4449-1747440000-1747526399@storadjupsas.se
SUMMARY:Feel good package
DESCRIPTION:Spend a day in the company of good friends by booking this package with us! Here you will enjoy beautiful treatments at Minerva loacted just outside Vara where you will be offered foot bath\, a relaxing back massage and facial cleansing with facial massage. There will be a nice and tasty afternoon snack. \nThen you go to your accommodation in Essunga and Stora Djupsås where a 2-course menu awaits. After a good night’s sleep\, you will enjoy a freshly made and hearty breakfast basket. \nWith us you can stay either in luxurious glamping tents with hotel standard beds\, in a awsome tree tent floating above the ground by the river Nossan\, in your own tent\, your own motorhome or caravan. \nPlaces are limited so first come\, first served. Read more about this via the link!
URL:https://storadjupsas.se/en/event/feel-good-package-3/
CATEGORIES:Spa
ATTACH;FMTTYPE=image/jpeg:https://storadjupsas.se/wp-content/uploads/2023/12/feet-908270_1280.jpg
END:VEVENT
END:VCALENDAR