BEGIN:VCALENDAR
VERSION:2.0
PRODID:-//Stora Djupsås - ECPv6.15.11//NONSGML v1.0//EN
CALSCALE:GREGORIAN
METHOD:PUBLISH
X-WR-CALNAME:Stora Djupsås
X-ORIGINAL-URL:https://storadjupsas.se/en/
X-WR-CALDESC:Events for Stora Djupsås
REFRESH-INTERVAL;VALUE=DURATION:PT1H
X-Robots-Tag:noindex
X-PUBLISHED-TTL:PT1H
BEGIN:VTIMEZONE
TZID:UTC
BEGIN:STANDARD
TZOFFSETFROM:+0000
TZOFFSETTO:+0000
TZNAME:UTC
DTSTART:20230101T000000
END:STANDARD
END:VTIMEZONE
BEGIN:VEVENT
DTSTART;VALUE=DATE:20240504
DTEND;VALUE=DATE:20240506
DTSTAMP:20260424T230745
CREATED:20231207T101429Z
LAST-MODIFIED:20240103T133336Z
UID:2729-1714780800-1714953599@storadjupsas.se
SUMMARY:Feel good package
DESCRIPTION:Spend a day in the company of good friends by booking this package with us! Here you will enjoy beautiful treatments at Minerva loacted just outside Vara where you will be offered foot bath\, a relaxing back massage and facial cleansing with facial massage. There will be a nice and tasty afternoon snack. \nThen you go to your accommodation in Essunga and Stora Djupsås where a 2-course menu awaits. After a good night’s sleep\, you will enjoy a freshly made and hearty breakfast basket. \nWith us you can stay either in luxurious glamping tents with hotel standard beds\, in a awsome tree tent floating above the ground by the river Nossan\, in your own tent\, your own motorhome or caravan. Glamping tents and tree tents are limited so first come\, first served. \nPrice per person: accommodation in glamping tent 2200kr (bedding\, towel and dressing gown included)\, tree tent 1800kr (sleeping bag\, towel and pillow included)\, own tent or own motorhome/caravan 1600kr (no electricity). \nDo you have questions or want to book? Email us at info@storadjupsas.se \nwww.minervavara.se Instagram: minervaivara Facebook: Minerva \nwww.storadjupsas.se Instagram: storadjupsas Facebook: Stora Djupsås
URL:https://storadjupsas.se/en/event/feel-good-package/
CATEGORIES:Spa
ATTACH;FMTTYPE=image/jpeg:https://storadjupsas.se/wp-content/uploads/2023/12/feet-908270_1280.jpg
END:VEVENT
END:VCALENDAR