BEGIN:VCALENDAR
VERSION:2.0
PRODID:-//Stora Djupsås - ECPv6.15.11//NONSGML v1.0//EN
CALSCALE:GREGORIAN
METHOD:PUBLISH
X-ORIGINAL-URL:https://storadjupsas.se/en/
X-WR-CALDESC:Events for Stora Djupsås
REFRESH-INTERVAL;VALUE=DURATION:PT1H
X-Robots-Tag:noindex
X-PUBLISHED-TTL:PT1H
BEGIN:VTIMEZONE
TZID:UTC
BEGIN:STANDARD
TZOFFSETFROM:+0000
TZOFFSETTO:+0000
TZNAME:UTC
DTSTART:20240101T000000
END:STANDARD
END:VTIMEZONE
BEGIN:VEVENT
DTSTART;VALUE=DATE:20250524
DTEND;VALUE=DATE:20250525
DTSTAMP:20260423T155500
CREATED:20241128T075902Z
LAST-MODIFIED:20241128T075902Z
UID:4446-1748044800-1748131199@storadjupsas.se
SUMMARY:Hiking packages
DESCRIPTION:Hiking package: guided hike on beautiful Kinnekulle with Sara Saleryd Experience the beautiful plateau mountain Kinnekulle together with the Instagram profile Sara Saleryd! Food and cozy accommodation are provided by Stora Djupsås. Sara currently has around 43\,500 followers on Instagram where she makes fantastic and inspiring posts about different beautiful places to hike: @sarasaleryd \n” Kinnekulle is well known for its beautiful nature with flowering wild garlic\, orchids and wonderful views of Lake Vänern. In May\, when it is at its most beautiful\, you will be taken on an approximately 8 km long hike that is adapted to what is in bloom. Among other things\, you will experience Stora stenbrottet and Munkängarna.     \n/ Sara “ \nLimited number of places so first come first served. Read more via the link!
URL:https://storadjupsas.se/en/event/hiking-packages/
CATEGORIES:Hiking
ATTACH;FMTTYPE=image/jpeg:https://storadjupsas.se/wp-content/uploads/2024/08/5E4A3494.jpg
END:VEVENT
END:VCALENDAR