BEGIN:VCALENDAR
VERSION:2.0
PRODID:-//Stora Djupsås - ECPv6.15.11//NONSGML v1.0//EN
CALSCALE:GREGORIAN
METHOD:PUBLISH
X-WR-CALNAME:Stora Djupsås
X-ORIGINAL-URL:https://storadjupsas.se/en/
X-WR-CALDESC:Events for Stora Djupsås
REFRESH-INTERVAL;VALUE=DURATION:PT1H
X-Robots-Tag:noindex
X-PUBLISHED-TTL:PT1H
BEGIN:VTIMEZONE
TZID:Europe/Stockholm
BEGIN:DAYLIGHT
TZOFFSETFROM:+0100
TZOFFSETTO:+0200
TZNAME:CEST
DTSTART:20250330T010000
END:DAYLIGHT
BEGIN:STANDARD
TZOFFSETFROM:+0200
TZOFFSETTO:+0100
TZNAME:CET
DTSTART:20251026T010000
END:STANDARD
BEGIN:DAYLIGHT
TZOFFSETFROM:+0100
TZOFFSETTO:+0200
TZNAME:CEST
DTSTART:20260329T010000
END:DAYLIGHT
BEGIN:STANDARD
TZOFFSETFROM:+0200
TZOFFSETTO:+0100
TZNAME:CET
DTSTART:20261025T010000
END:STANDARD
BEGIN:DAYLIGHT
TZOFFSETFROM:+0100
TZOFFSETTO:+0200
TZNAME:CEST
DTSTART:20270328T010000
END:DAYLIGHT
BEGIN:STANDARD
TZOFFSETFROM:+0200
TZOFFSETTO:+0100
TZNAME:CET
DTSTART:20271031T010000
END:STANDARD
END:VTIMEZONE
BEGIN:VEVENT
DTSTART;VALUE=DATE:20260612
DTEND;VALUE=DATE:20260614
DTSTAMP:20260423T174631
CREATED:20260417T170958Z
LAST-MODIFIED:20260417T171420Z
UID:7671-1781222400-1781395199@storadjupsas.se
SUMMARY:The potato festival in Alingsås
DESCRIPTION:The potato festival in Alingsås June 12-13\, 2026 \nIn June\, Alingsås is transformed into a vibrant meeting place when the popular Potato Festival takes place. The festival has its roots in the town’s history as a potato town and today offers a wonderful mix of market\, local delicacies\, music and activities for both young and old. Here you can stroll between stalls\, discover local flavors and enjoy a summery festival atmosphere in a charming urban environment.   \nFor those who want to experience the festival but at the same time have the opportunity to retreat to the tranquility\, Stora Djupsås is a perfect choice. Here you live close to nature and peaceful\, with forest and open landscapes around\, while you only have about 30 minutes by car to central Alingsås.  \nWith us\, you can choose from several different types of accommodation\, ranging from luxurious rooms at our Bed and Breakfast\, simple pitches and tent sites to more experiential options such as glamping and tree tents. No matter how you want to stay\, you’ll have a relaxing base to land in after a day filled with impressions.  \nThis makes it easy to combine the hustle and bustle of the festival with the tranquillity of the countryside\, a holistic experience that offers the best of both worlds.
URL:https://storadjupsas.se/en/event/the-potato-festival-in-alingsas/
LOCATION:Alingsås\, Alingsås
CATEGORIES:Culture,Festival,Food,Market
ATTACH;FMTTYPE=image/jpeg:https://storadjupsas.se/wp-content/uploads/2026/04/Potatisfestivalen.jpg
END:VEVENT
BEGIN:VEVENT
DTSTART;VALUE=DATE:20260626
DTEND;VALUE=DATE:20260628
DTSTAMP:20260423T174631
CREATED:20260216T181530Z
LAST-MODIFIED:20260216T181832Z
UID:7132-1782432000-1782604799@storadjupsas.se
SUMMARY:Strawberry Day
DESCRIPTION:Welcome to Strawberry Day 2026\n\nStrawberry Day is one of the most beloved summer events in Vara! The strawberry takes center stage\, the festival atmosphere is at its peak and the activities are many. The event is free.  \n\nHere’s what you can look forward to:– Dance band night on Friday– Great artist performances on Saturday– Free strawberries with ice cream– Market stalls and funfair in the square– Children’s activities in Badhusparken\n\nPrograms and bookings will be presented in the spring.\n\nStrawberry Day is organized by Vara municipality in collaboration with Vara Konserthus\, together with local associations\, restaurateurs and our fantastic strawberry growers.\n\nSee you at Stora torget in Vara on June 26-27!
URL:https://storadjupsas.se/en/event/strawberry-day-in-vara/
LOCATION:Vara\, 53431
CATEGORIES:Festival,Market
ATTACH;FMTTYPE=image/jpeg:https://storadjupsas.se/wp-content/uploads/2026/02/615800246_901239415769145_5706124652751502107_n.jpg
END:VEVENT
END:VCALENDAR