BEGIN:VCALENDAR
VERSION:2.0
PRODID:-//Stora Djupsås - ECPv6.15.11//NONSGML v1.0//EN
CALSCALE:GREGORIAN
METHOD:PUBLISH
X-WR-CALNAME:Stora Djupsås
X-ORIGINAL-URL:https://storadjupsas.se/en/
X-WR-CALDESC:Events for Stora Djupsås
REFRESH-INTERVAL;VALUE=DURATION:PT1H
X-Robots-Tag:noindex
X-PUBLISHED-TTL:PT1H
BEGIN:VTIMEZONE
TZID:Europe/Stockholm
BEGIN:DAYLIGHT
TZOFFSETFROM:+0100
TZOFFSETTO:+0200
TZNAME:CEST
DTSTART:20240331T010000
END:DAYLIGHT
BEGIN:STANDARD
TZOFFSETFROM:+0200
TZOFFSETTO:+0100
TZNAME:CET
DTSTART:20241027T010000
END:STANDARD
BEGIN:DAYLIGHT
TZOFFSETFROM:+0100
TZOFFSETTO:+0200
TZNAME:CEST
DTSTART:20250330T010000
END:DAYLIGHT
BEGIN:STANDARD
TZOFFSETFROM:+0200
TZOFFSETTO:+0100
TZNAME:CET
DTSTART:20251026T010000
END:STANDARD
BEGIN:DAYLIGHT
TZOFFSETFROM:+0100
TZOFFSETTO:+0200
TZNAME:CEST
DTSTART:20260329T010000
END:DAYLIGHT
BEGIN:STANDARD
TZOFFSETFROM:+0200
TZOFFSETTO:+0100
TZNAME:CET
DTSTART:20261025T010000
END:STANDARD
END:VTIMEZONE
BEGIN:VEVENT
DTSTART;VALUE=DATE:20251003
DTEND;VALUE=DATE:20251011
DTSTAMP:20260424T110457
CREATED:20250227T094103Z
LAST-MODIFIED:20250227T094103Z
UID:4995-1759449600-1760140799@storadjupsas.se
SUMMARY:Nossan Light Festival in Grästorp
DESCRIPTION:Nossan Ljusfestival is a health-promoting event with exciting and pleasant elements for both body\, soul\, eye\, ear and mouth. The surroundings of the Nossan watercourse will be spectacularly illuminated along a stretch of just over two kilometers. Along the walking trail\, in addition to the various light objects\, you will also meet ghosts in the ghost forest …. \nIn the idyllic Forshall\, entertainment and refreshments are offered every evening. On the large and small stages\, this year’s guest artists perform while the restaurateur offers an interesting menu with full rights.  \nAll work before and during the festival is carried out voluntarily by the nearly 200 members of the Grästorp Future Association. The event is mainly financed by sponsorship revenue from local businesses\, lotteries and a symbolic entry fee.  \nPreparations for the big party in the fall have started! We will update the pages on our website as they are finalized. Keep an eye out   \nA warm welcome to you.
URL:https://storadjupsas.se/en/event/nossan-light-festival-in-grastorp/
LOCATION:Grästorp\, Grästorp\, 46731\, Sweden
CATEGORIES:Festival
ATTACH;FMTTYPE=image/jpeg:https://storadjupsas.se/wp-content/uploads/2023/11/Nossan-ljusfestival.jpg
END:VEVENT
END:VCALENDAR