BEGIN:VCALENDAR
VERSION:2.0
PRODID:-//Stora Djupsås - ECPv6.15.11//NONSGML v1.0//EN
CALSCALE:GREGORIAN
METHOD:PUBLISH
X-ORIGINAL-URL:https://storadjupsas.se/en/
X-WR-CALDESC:Events for Stora Djupsås
REFRESH-INTERVAL;VALUE=DURATION:PT1H
X-Robots-Tag:noindex
X-PUBLISHED-TTL:PT1H
BEGIN:VTIMEZONE
TZID:UTC
BEGIN:STANDARD
TZOFFSETFROM:+0000
TZOFFSETTO:+0000
TZNAME:UTC
DTSTART:20240101T000000
END:STANDARD
END:VTIMEZONE
BEGIN:VEVENT
DTSTART;VALUE=DATE:20250805
DTEND;VALUE=DATE:20250808
DTSTAMP:20260422T010237
CREATED:20250107T135405Z
LAST-MODIFIED:20250731T112505Z
UID:4622-1754352000-1754611199@storadjupsas.se
SUMMARY:Ceramics course
DESCRIPTION:Ceramics course\nDuring 3 days we spend time creating in clay with Agneta at Hillestorps Krukmakeri. Her pottery workshop is beautifully located in the countryside outside Tumleberg in Vara municipality. On this course you get to try several different techniques such as ringing\, rolling\, turning and tumbling.   \nThe course runs for three consecutive days and the group is kept small so that everyone is helped through the different stages. The course is aimed at both beginners and those with previous experience of creating in clay.  \nDay 1: we start with an introduction where different techniques are shown and simple coffee. We go through rolling\, tumbling\, ringing and turning. There are 3 turning disks\, 2 electric disks and 1 kick disk. Then it is free choice of technique. Turning is an art. The course leader Agneta sits next to you and helps you through the turning moments when you turn the first time. Then you will get help with centering so that you can get started\, then you work independently on the turning disc and Agneta is there to give tips and advice.       \nDay 2: we work on and try different techniques. \nDay 3: we take care of what we’ve already created; polish and “send” the turned and it is free to continue creating something based on the techniques we learned. \nThe hours are 10:00 – 16:00 on all three days. \nWhat is included? 3 day course including clay firing\, glazing and glaze firing of what you have made. It also includes coffee\, lunch during the three days and supper and breakfast on two occasions. Accommodation of your choice for 2 nights.   See below for information on accommodation options. \nWhat do you need to prepare?\nBring casual clothes and shoes. \nPrerequisites and age\nNo prior knowledge required. From 15 years old.  \nCost of clay:\nClay (incl. glaze) costs 80:-/kg. It is weighed and paid at the end of the last day of the course.  \nAfter about 6-8 weeks\, what you have made is ready to pick up at Hillestorps Keramik. If you live far away\, your things are sent against the shipping cost.  \nWith us you can stay either in luxurious glamping tents with hotel standard beds\, in a awsome tree tent floating above the ground by the river Nossan\, in your own tent\, your own motorhome or caravan. Places are limited so first come\, first served: maximum 6 people per session. \nPrices\n-Glamping tent: 6100:-/person (part of a 2-man or 4-man tent. Bed linen\, towel and bathrobe included)\n-Tree tent: 5100:-/person (part of a 2-man tent\, sleeping bag with sleeping bag sheet\, towel and pillow included)\n-Tent site: 4900:-/person (no electricity\, tent site for two people*)\n-Pitch 4900:-/person (incl. electricity\, pitch for two people*) \nDo you have questions or want to book? Email us at info@storadjupsas.se or call Agneta regarding questions about the ceramics part 076-138 11 68. Register at least one week before the course starts. A warm welcome! \nCancellation through personal contact only: email or phone. Cancellation up to 2 weeks before the start of the course means that we charge an administration fee of 10% of the total cost. Cancellation later than two weeks before the start of the course means a charge of 50% of the total cost. Cancellation later than one week before the start of the course means full charge.   \n*For additional persons beyond two\, SEK 250 per accommodation will be charged
URL:https://storadjupsas.se/en/event/ceramics-course-2/
CATEGORIES:Crafts
ATTACH;FMTTYPE=image/jpeg:https://storadjupsas.se/wp-content/uploads/2024/12/20231014_074036-scaled.jpg
ORGANIZER;CN="Stora Djups%C3%A5s":MAILTO:info@storadjupsas.se
END:VEVENT
END:VCALENDAR