BEGIN:VCALENDAR
VERSION:2.0
PRODID:-//Stora Djupsås - ECPv6.15.11//NONSGML v1.0//EN
CALSCALE:GREGORIAN
METHOD:PUBLISH
X-WR-CALNAME:Stora Djupsås
X-ORIGINAL-URL:https://storadjupsas.se/en/
X-WR-CALDESC:Events for Stora Djupsås
REFRESH-INTERVAL;VALUE=DURATION:PT1H
X-Robots-Tag:noindex
X-PUBLISHED-TTL:PT1H
BEGIN:VTIMEZONE
TZID:Europe/Stockholm
BEGIN:DAYLIGHT
TZOFFSETFROM:+0100
TZOFFSETTO:+0200
TZNAME:CEST
DTSTART:20250330T010000
END:DAYLIGHT
BEGIN:STANDARD
TZOFFSETFROM:+0200
TZOFFSETTO:+0100
TZNAME:CET
DTSTART:20251026T010000
END:STANDARD
BEGIN:DAYLIGHT
TZOFFSETFROM:+0100
TZOFFSETTO:+0200
TZNAME:CEST
DTSTART:20260329T010000
END:DAYLIGHT
BEGIN:STANDARD
TZOFFSETFROM:+0200
TZOFFSETTO:+0100
TZNAME:CET
DTSTART:20261025T010000
END:STANDARD
BEGIN:DAYLIGHT
TZOFFSETFROM:+0100
TZOFFSETTO:+0200
TZNAME:CEST
DTSTART:20270328T010000
END:DAYLIGHT
BEGIN:STANDARD
TZOFFSETFROM:+0200
TZOFFSETTO:+0100
TZNAME:CET
DTSTART:20271031T010000
END:STANDARD
END:VTIMEZONE
BEGIN:VEVENT
DTSTART;TZID=Europe/Stockholm:20260513T093000
DTEND;TZID=Europe/Stockholm:20260624T113000
DTSTAMP:20260420T055251
CREATED:20260217T170922Z
LAST-MODIFIED:20260220T083228Z
UID:7141-1778664600-1782300600@storadjupsas.se
SUMMARY:Parent training - Infant massage
DESCRIPTION:One touch at a time \nGive your baby security\, closeness and love through soft and conscious touch. During this course in infant massage\, you as a parent will learn techniques that strengthen the connection and deepen the interaction between you and your child.  \nInfant massage is the loving touch of a baby’s skin\, the body’s largest sensory organ. It is not a treatment\, but a moment of presence\, contact and calm – completely on the child’s terms. Through the massage\, you develop your ability to read your child’s signals and build security in your relationship.   \nDuring the course you will:\n\nLearn the different strokes of the massage\nDeepen interaction and communication with your child\nA quiet moment of presence\, just for the two of you\nCommunity with other parents in a safe environment\nSandwiches and drinks at each session\n\nSome parts of the massage\, such as the abdominal massage\, can help to relieve stomach aches and gas. \nPractical information\nCourse start: Wednesday 13 May\nDates: 13/5\, 20/5\, 27/5\, 3/6\, 10/6 and 17/6.\n(The course is held six Wednesdays)\nTime: 09.30-11.30Reserve day: 24/6Suitable age: approx. 1-8 months (before the child starts to crawl)Maximum number of participants: 8 childrenCost: 2 095 kr per childRegistration open: April 6 – April 27 \nBoth parents are welcome to attend with their baby. \nCourse leader: Erika Kylén\, Erika’s Massage
URL:https://storadjupsas.se/en/event/parent-training-infant-massage/
LOCATION:Stora Djupsås\, Stora Djupsås 401\, Nossebro
CATEGORIES:Course
ATTACH;FMTTYPE=image/jpeg:https://storadjupsas.se/wp-content/uploads/2026/02/mum-making-baby-massage-mother-massaging-infant-bare-foot-preventive-massage-newborn-mommy-stroking-baby-s-feet-with-both-hands-light-background-scaled.jpg
END:VEVENT
END:VCALENDAR