BEGIN:VCALENDAR
VERSION:2.0
PRODID:-//Stora Djupsås - ECPv6.15.11//NONSGML v1.0//EN
CALSCALE:GREGORIAN
METHOD:PUBLISH
X-WR-CALNAME:Stora Djupsås
X-ORIGINAL-URL:https://storadjupsas.se/en/
X-WR-CALDESC:Events for Stora Djupsås
REFRESH-INTERVAL;VALUE=DURATION:PT1H
X-Robots-Tag:noindex
X-PUBLISHED-TTL:PT1H
BEGIN:VTIMEZONE
TZID:UTC
BEGIN:STANDARD
TZOFFSETFROM:+0000
TZOFFSETTO:+0000
TZNAME:UTC
DTSTART:20230101T000000
END:STANDARD
END:VTIMEZONE
BEGIN:VEVENT
DTSTART;TZID=UTC:20240718T170000
DTEND;TZID=UTC:20240718T200000
DTSTAMP:20260421T193152
CREATED:20231123T080000Z
LAST-MODIFIED:20241205T115230Z
UID:2725-1721322000-1721332800@storadjupsas.se
SUMMARY:Motortorsdag in Lidköping - A motor meeting in the square for the whole family.
DESCRIPTION:Motortorsdag in Lidköping is an event for the whole family and is organized on four Thursdays during the summer. June 13\, July 11\, July 18 and July 25\, 2024. \nIn the middle of the New Town Square\, vehicles and show cars are displayed in front of the Old Town Hall.  All vehicles are welcome\, from Veteran\, Muscle and Stuccoed/Styled to modern cars and Motorcycles. Come and enjoy cars and motorcycles in all their different forms! The meeting starts at 17:00 and lasts until around 20:00. If you want to be sure to see a large number of vehicles\, we recommend that you arrive early. Do you want to come and exhibit? Admission opens at 17:00.
URL:https://storadjupsas.se/en/event/motortorsdag-a-motorcycle-meeting-in-the-square-for-the-whole-family-4/
LOCATION:Lidköping\, 53130\, Sverige
CATEGORIES:Motor
ATTACH;FMTTYPE=image/png:https://storadjupsas.se/wp-content/uploads/2023/11/Motortorsdag.png
END:VEVENT
END:VCALENDAR